BEGIN:VCALENDAR
VERSION:2.0
PRODID:-//Ordine degli Avvocati di Foggia - ECPv4.9.10//NONSGML v1.0//EN
CALSCALE:GREGORIAN
METHOD:PUBLISH
X-WR-CALNAME:Ordine degli Avvocati di Foggia
X-ORIGINAL-URL:https://ordineavvocatifoggia.it
X-WR-CALDESC:Eventi per Ordine degli Avvocati di Foggia
BEGIN:VTIMEZONE
TZID:Europe/Rome
BEGIN:DAYLIGHT
TZOFFSETFROM:+0100
TZOFFSETTO:+0200
TZNAME:CEST
DTSTART:20160327T010000
END:DAYLIGHT
BEGIN:STANDARD
TZOFFSETFROM:+0200
TZOFFSETTO:+0100
TZNAME:CET
DTSTART:20161030T010000
END:STANDARD
END:VTIMEZONE
BEGIN:VEVENT
DTSTART;TZID=Europe/Rome:20160311T150000
DTEND;TZID=Europe/Rome:20160311T190000
DTSTAMP:20260421T104357
CREATED:20160303T100752Z
LAST-MODIFIED:20160303T100752Z
UID:8395-1457708400-1457722800@ordineavvocatifoggia.it
SUMMARY:Convegno "La nuova esecuzione penale nella legge delega 64/2014"
DESCRIPTION:Il programma è disponibile in allegato. \n(Contains 1 attachments.)
URL:https://ordineavvocatifoggia.it/event/convegno-la-nuova-esecuzione-penale-nella-legge-delega-642014/
CATEGORIES:Eventi Formativi
END:VEVENT
BEGIN:VEVENT
DTSTART;TZID=Europe/Rome:20160311T150000
DTEND;TZID=Europe/Rome:20160311T190000
DTSTAMP:20260421T104357
CREATED:20160308T222251Z
LAST-MODIFIED:20160308T222251Z
UID:8409-1457708400-1457722800@ordineavvocatifoggia.it
SUMMARY:Evento "Omicidio stradale - implicazioni pratiche e criticità"
DESCRIPTION:Il programma è nella locandina allegata. \n(Contains 1 attachments.)
URL:https://ordineavvocatifoggia.it/event/evento-omicidio-stradale-implicazioni-pratiche-e-criticita/
CATEGORIES:Eventi Formativi
ATTACH;FMTTYPE=:
END:VEVENT
END:VCALENDAR