BEGIN:VCALENDAR
VERSION:2.0
PRODID:-//Ordine degli Avvocati di Foggia - ECPv4.9.10//NONSGML v1.0//EN
CALSCALE:GREGORIAN
METHOD:PUBLISH
X-WR-CALNAME:Ordine degli Avvocati di Foggia
X-ORIGINAL-URL:https://ordineavvocatifoggia.it
X-WR-CALDESC:Eventi per Ordine degli Avvocati di Foggia
BEGIN:VTIMEZONE
TZID:Europe/Rome
BEGIN:DAYLIGHT
TZOFFSETFROM:+0100
TZOFFSETTO:+0200
TZNAME:CEST
DTSTART:20160327T010000
END:DAYLIGHT
BEGIN:STANDARD
TZOFFSETFROM:+0200
TZOFFSETTO:+0100
TZNAME:CET
DTSTART:20161030T010000
END:STANDARD
END:VTIMEZONE
BEGIN:VEVENT
DTSTART;VALUE=DATE:20160305
DTEND;VALUE=DATE:20160306
DTSTAMP:20260421T104314
CREATED:20160228T094600Z
LAST-MODIFIED:20160228T094600Z
UID:8358-1457136000-1457222399@ordineavvocatifoggia.it
SUMMARY:Convegno: "Giornata di sensibilizzazione alla violenza di genere" - 5/2/2016
DESCRIPTION:Il programma è contenuto nella locandina allegata. \n
URL:https://ordineavvocatifoggia.it/event/convegno-giornata-di-sensibilizzazione-alla-violenza-di-genere-522016/
CATEGORIES:Eventi Formativi
ATTACH;FMTTYPE=:
END:VEVENT
END:VCALENDAR