BEGIN:VCALENDAR
VERSION:2.0
PRODID:-//Ordine degli Avvocati di Foggia - ECPv4.9.10//NONSGML v1.0//EN
CALSCALE:GREGORIAN
METHOD:PUBLISH
X-WR-CALNAME:Ordine degli Avvocati di Foggia
X-ORIGINAL-URL:https://ordineavvocatifoggia.it
X-WR-CALDESC:Eventi per Ordine degli Avvocati di Foggia
BEGIN:VTIMEZONE
TZID:Europe/Rome
BEGIN:DAYLIGHT
TZOFFSETFROM:+0100
TZOFFSETTO:+0200
TZNAME:CEST
DTSTART:20160327T010000
END:DAYLIGHT
BEGIN:STANDARD
TZOFFSETFROM:+0200
TZOFFSETTO:+0100
TZNAME:CET
DTSTART:20161030T010000
END:STANDARD
END:VTIMEZONE
BEGIN:VEVENT
DTSTART;TZID=Europe/Rome:20160121T150000
DTEND;TZID=Europe/Rome:20160121T190000
DTSTAMP:20260421T134453
CREATED:20160111T194717Z
LAST-MODIFIED:20160111T194717Z
UID:8156-1453388400-1453402800@ordineavvocatifoggia.it
SUMMARY:Convegno "La udienza telematica in materia di famiglia"
DESCRIPTION:Il programma è indicato nella locandina. \n
URL:https://ordineavvocatifoggia.it/event/convegno-la-udienza-telematica-in-materia-di-famiglia/
CATEGORIES:Eventi Formativi
ATTACH;FMTTYPE=:
END:VEVENT
END:VCALENDAR