BEGIN:VCALENDAR
VERSION:2.0
PRODID:-//Ordine degli Avvocati di Foggia - ECPv4.9.10//NONSGML v1.0//EN
CALSCALE:GREGORIAN
METHOD:PUBLISH
X-WR-CALNAME:Ordine degli Avvocati di Foggia
X-ORIGINAL-URL:https://ordineavvocatifoggia.it
X-WR-CALDESC:Eventi per Ordine degli Avvocati di Foggia
BEGIN:VTIMEZONE
TZID:Europe/Rome
BEGIN:DAYLIGHT
TZOFFSETFROM:+0100
TZOFFSETTO:+0200
TZNAME:CEST
DTSTART:20150329T010000
END:DAYLIGHT
BEGIN:STANDARD
TZOFFSETFROM:+0200
TZOFFSETTO:+0100
TZNAME:CET
DTSTART:20151025T010000
END:STANDARD
END:VTIMEZONE
BEGIN:VEVENT
DTSTART;TZID=Europe/Rome:20151215T150000
DTEND;TZID=Europe/Rome:20151215T180000
DTSTAMP:20260421T153951
CREATED:20151207T122003Z
LAST-MODIFIED:20151207T122003Z
UID:8037-1450191600-1450202400@ordineavvocatifoggia.it
SUMMARY:Incontro di studio su "Il danno non patrimoniale con particolare riferimento al danno tanatologico"
DESCRIPTION:Il programma è nella locandina allegata. \n
URL:https://ordineavvocatifoggia.it/event/incontro-di-studio-su-il-danno-non-patrimoniale-con-particolare-riferimento-al-danno-tanatologico/
CATEGORIES:Eventi Formativi
ATTACH;FMTTYPE=:
END:VEVENT
END:VCALENDAR