BEGIN:VCALENDAR
VERSION:2.0
PRODID:-//Ordine degli Avvocati di Foggia - ECPv4.9.10//NONSGML v1.0//EN
CALSCALE:GREGORIAN
METHOD:PUBLISH
X-WR-CALNAME:Ordine degli Avvocati di Foggia
X-ORIGINAL-URL:https://ordineavvocatifoggia.it
X-WR-CALDESC:Eventi per Ordine degli Avvocati di Foggia
BEGIN:VTIMEZONE
TZID:Europe/Rome
BEGIN:DAYLIGHT
TZOFFSETFROM:+0100
TZOFFSETTO:+0200
TZNAME:CEST
DTSTART:20150329T010000
END:DAYLIGHT
BEGIN:STANDARD
TZOFFSETFROM:+0200
TZOFFSETTO:+0100
TZNAME:CET
DTSTART:20151025T010000
END:STANDARD
END:VTIMEZONE
BEGIN:VEVENT
DTSTART;TZID=Europe/Rome:20151214T160000
DTEND;TZID=Europe/Rome:20151214T190000
DTSTAMP:20260421T153056
CREATED:20151209T122338Z
LAST-MODIFIED:20151209T122338Z
UID:8046-1450108800-1450119600@ordineavvocatifoggia.it
SUMMARY:Convegno "Gratuito patrocinio e Cassa Forense"
DESCRIPTION:Il programma è nella lcoandina allegata. \n
URL:https://ordineavvocatifoggia.it/event/convegno-gratuito-patrocinio-e-cassa-forense/
CATEGORIES:Eventi Formativi
ATTACH;FMTTYPE=:
END:VEVENT
END:VCALENDAR