BEGIN:VCALENDAR
VERSION:2.0
PRODID:-//Ordine degli Avvocati di Foggia - ECPv4.9.10//NONSGML v1.0//EN
CALSCALE:GREGORIAN
METHOD:PUBLISH
X-WR-CALNAME:Ordine degli Avvocati di Foggia
X-ORIGINAL-URL:https://ordineavvocatifoggia.it
X-WR-CALDESC:Eventi per Ordine degli Avvocati di Foggia
BEGIN:VTIMEZONE
TZID:Europe/Rome
BEGIN:DAYLIGHT
TZOFFSETFROM:+0100
TZOFFSETTO:+0200
TZNAME:CEST
DTSTART:20150329T010000
END:DAYLIGHT
BEGIN:STANDARD
TZOFFSETFROM:+0200
TZOFFSETTO:+0100
TZNAME:CET
DTSTART:20151025T010000
END:STANDARD
END:VTIMEZONE
BEGIN:VEVENT
DTSTART;TZID=Europe/Rome:20151211T153000
DTEND;TZID=Europe/Rome:20151211T193000
DTSTAMP:20260421T153121
CREATED:20151202T215836Z
LAST-MODIFIED:20151202T215836Z
UID:8020-1449847800-1449862200@ordineavvocatifoggia.it
SUMMARY:Corso di formazione in Ordinamento professionale\, Deontologia e Previdenza forense "La nuova difesa d'ufficio"
DESCRIPTION:La locandina con il programma è disponibile in allegato.\nLa partecipazione al corso è gratuita.\nL’evento è in corso di accreditamento presso il Consiglio dell’Ordine degli Avvocati di Foggia per n. 4 crediti formativi.\n  \n(Contains 1 attachments.)
URL:https://ordineavvocatifoggia.it/event/corso-di-formazione-in-ordinamento-professionale-deontologia-e-previdenza-forense-la-nuova-difesa-dufficio/
CATEGORIES:Eventi Formativi
END:VEVENT
BEGIN:VEVENT
DTSTART;TZID=Europe/Rome:20151211T153000
DTEND;TZID=Europe/Rome:20151211T193000
DTSTAMP:20260421T153121
CREATED:20151207T173741Z
LAST-MODIFIED:20151207T173741Z
UID:8042-1449847800-1449862200@ordineavvocatifoggia.it
SUMMARY:Corso di formazione "La nuova difesa d'ufficio"
DESCRIPTION:Il programma è nella locandina allegata. \n(Contains 1 attachments.)
URL:https://ordineavvocatifoggia.it/event/corso-di-formazione-la-nuova-difesa-dufficio/
CATEGORIES:Eventi Formativi
ATTACH;FMTTYPE=:
END:VEVENT
END:VCALENDAR