BEGIN:VCALENDAR
VERSION:2.0
PRODID:-//Ordine degli Avvocati di Foggia - ECPv4.9.10//NONSGML v1.0//EN
CALSCALE:GREGORIAN
METHOD:PUBLISH
X-WR-CALNAME:Ordine degli Avvocati di Foggia
X-ORIGINAL-URL:https://ordineavvocatifoggia.it
X-WR-CALDESC:Eventi per Ordine degli Avvocati di Foggia
BEGIN:VTIMEZONE
TZID:Europe/Rome
BEGIN:DAYLIGHT
TZOFFSETFROM:+0100
TZOFFSETTO:+0200
TZNAME:CEST
DTSTART:20150329T010000
END:DAYLIGHT
BEGIN:STANDARD
TZOFFSETFROM:+0200
TZOFFSETTO:+0100
TZNAME:CET
DTSTART:20151025T010000
END:STANDARD
END:VTIMEZONE
BEGIN:VEVENT
DTSTART;TZID=Europe/Rome:20151119T150000
DTEND;TZID=Europe/Rome:20151119T190000
DTSTAMP:20260421T191941
CREATED:20151112T213302Z
LAST-MODIFIED:20151112T213302Z
UID:7856-1447945200-1447959600@ordineavvocatifoggia.it
SUMMARY:Convegno "Abuso del diritto - aspetti processuali e deontologici"
DESCRIPTION:Il programma è indicato nel manifesto allegato. \n
URL:https://ordineavvocatifoggia.it/event/convegno-abuso-del-diritto-aspetti-processuali-e-deontologici/
CATEGORIES:Eventi Formativi
ATTACH;FMTTYPE=:
END:VEVENT
BEGIN:VEVENT
DTSTART;TZID=Europe/Rome:20151119T150000
DTEND;TZID=Europe/Rome:20151119T190000
DTSTAMP:20260421T191941
CREATED:20151117T185900Z
LAST-MODIFIED:20151117T185900Z
UID:7920-1447945200-1447959600@ordineavvocatifoggia.it
SUMMARY:Corso di aggiornamento in Diritto del Lavoro - Il Jobs Act e le nuove sfide per il lavoro
DESCRIPTION:Il programma è disponibile in allegato. \n
URL:https://ordineavvocatifoggia.it/event/corso-di-aggiornamento-in-diritto-del-lavoro-il-jobs-act-e-le-nuove-sfide-per-il-lavoro/
CATEGORIES:Eventi Formativi
ATTACH;FMTTYPE=:
END:VEVENT
END:VCALENDAR