BEGIN:VCALENDAR
VERSION:2.0
PRODID:-//Ordine degli Avvocati di Foggia - ECPv4.9.10//NONSGML v1.0//EN
CALSCALE:GREGORIAN
METHOD:PUBLISH
X-WR-CALNAME:Ordine degli Avvocati di Foggia
X-ORIGINAL-URL:https://ordineavvocatifoggia.it
X-WR-CALDESC:Eventi per Ordine degli Avvocati di Foggia
BEGIN:VTIMEZONE
TZID:Europe/Rome
BEGIN:DAYLIGHT
TZOFFSETFROM:+0100
TZOFFSETTO:+0200
TZNAME:CEST
DTSTART:20150329T010000
END:DAYLIGHT
BEGIN:STANDARD
TZOFFSETFROM:+0200
TZOFFSETTO:+0100
TZNAME:CET
DTSTART:20151025T010000
END:STANDARD
END:VTIMEZONE
BEGIN:VEVENT
DTSTART;TZID=Europe/Rome:20150702T163000
DTEND;TZID=Europe/Rome:20150702T203000
DTSTAMP:20260422T003613
CREATED:20150620T055115Z
LAST-MODIFIED:20150620T055115Z
UID:7252-1435854600-1435869000@ordineavvocatifoggia.it
SUMMARY:Convegno "I nuovi adempimenti connessi al mod. 5/2015 della Cassa Forense"
DESCRIPTION:In allegato la locandina dell’evento. \n(Contains 1 attachments.)
URL:https://ordineavvocatifoggia.it/event/convegno-i-nuovi-adempimenti-connessi-al-mod-52015-della-cassa-forense/
CATEGORIES:Eventi Formativi
END:VEVENT
END:VCALENDAR