BEGIN:VCALENDAR
VERSION:2.0
PRODID:-//Ordine degli Avvocati di Foggia - ECPv4.9.10//NONSGML v1.0//EN
CALSCALE:GREGORIAN
METHOD:PUBLISH
X-WR-CALNAME:Ordine degli Avvocati di Foggia
X-ORIGINAL-URL:https://ordineavvocatifoggia.it
X-WR-CALDESC:Eventi per Ordine degli Avvocati di Foggia
BEGIN:VTIMEZONE
TZID:Europe/Rome
BEGIN:DAYLIGHT
TZOFFSETFROM:+0100
TZOFFSETTO:+0200
TZNAME:CEST
DTSTART:20150329T010000
END:DAYLIGHT
BEGIN:STANDARD
TZOFFSETFROM:+0200
TZOFFSETTO:+0100
TZNAME:CET
DTSTART:20151025T010000
END:STANDARD
END:VTIMEZONE
BEGIN:VEVENT
DTSTART;TZID=Europe/Rome:20150618T153000
DTEND;TZID=Europe/Rome:20150618T183000
DTSTAMP:20260422T022048
CREATED:20150616T171952Z
LAST-MODIFIED:20150616T171952Z
UID:7210-1434641400-1434652200@ordineavvocatifoggia.it
SUMMARY:Convegno "La speciale tenuità del fatto ex art. 131 bis c.p."
DESCRIPTION:Il manifesto è disponibile in allegato. \n(Contains 1 attachments.)
URL:https://ordineavvocatifoggia.it/event/convegno-la-speciale-tenuita-del-fatto-ex-art-131-bis-c-p/
CATEGORIES:Eventi Formativi
END:VEVENT
END:VCALENDAR