BEGIN:VCALENDAR
VERSION:2.0
PRODID:-//Ordine degli Avvocati di Foggia - ECPv4.9.10//NONSGML v1.0//EN
CALSCALE:GREGORIAN
METHOD:PUBLISH
X-WR-CALNAME:Ordine degli Avvocati di Foggia
X-ORIGINAL-URL:https://ordineavvocatifoggia.it
X-WR-CALDESC:Eventi per Ordine degli Avvocati di Foggia
BEGIN:VTIMEZONE
TZID:Europe/Rome
BEGIN:DAYLIGHT
TZOFFSETFROM:+0100
TZOFFSETTO:+0200
TZNAME:CEST
DTSTART:20150329T010000
END:DAYLIGHT
BEGIN:STANDARD
TZOFFSETFROM:+0200
TZOFFSETTO:+0100
TZNAME:CET
DTSTART:20151025T010000
END:STANDARD
END:VTIMEZONE
BEGIN:VEVENT
DTSTART;TZID=Europe/Rome:20150611T150000
DTEND;TZID=Europe/Rome:20150611T190000
DTSTAMP:20260422T022047
CREATED:20150604T112259Z
LAST-MODIFIED:20150604T112259Z
UID:7174-1434034800-1434049200@ordineavvocatifoggia.it
SUMMARY:Convegno "I piani di risanamento e le attestazioni del professionista"
DESCRIPTION:In allegato è disponibile la locandina dell’evento con il relativo programma. \n(Contains 1 attachments.)
URL:https://ordineavvocatifoggia.it/event/convegno-i-piani-di-risanamento-e-le-attestazioni-del-professionista/
CATEGORIES:Eventi Formativi
END:VEVENT
END:VCALENDAR