BEGIN:VCALENDAR
VERSION:2.0
PRODID:-//Ordine degli Avvocati di Foggia - ECPv4.9.10//NONSGML v1.0//EN
CALSCALE:GREGORIAN
METHOD:PUBLISH
X-WR-CALNAME:Ordine degli Avvocati di Foggia
X-ORIGINAL-URL:https://ordineavvocatifoggia.it
X-WR-CALDESC:Eventi per Ordine degli Avvocati di Foggia
BEGIN:VTIMEZONE
TZID:Europe/Rome
BEGIN:DAYLIGHT
TZOFFSETFROM:+0100
TZOFFSETTO:+0200
TZNAME:CEST
DTSTART:20150329T010000
END:DAYLIGHT
BEGIN:STANDARD
TZOFFSETFROM:+0200
TZOFFSETTO:+0100
TZNAME:CET
DTSTART:20151025T010000
END:STANDARD
END:VTIMEZONE
BEGIN:VEVENT
DTSTART;TZID=Europe/Rome:20150609T150000
DTEND;TZID=Europe/Rome:20150609T183000
DTSTAMP:20260422T022144
CREATED:20150604T183147Z
LAST-MODIFIED:20150604T183147Z
UID:7178-1433862000-1433874600@ordineavvocatifoggia.it
SUMMARY:Convegno "Divorzio breve e negoziazione assistita\, aspetti deontologici e pratici"
DESCRIPTION:L’invito e il manifesto sono disponibili in allegato. \n(Contains 2 attachments.)
URL:https://ordineavvocatifoggia.it/event/convegno-divorzio-breve-e-negoziazione-assistita-aspetti-deontologici-e-pratici/
CATEGORIES:Eventi Formativi
ATTACH;FMTTYPE=:
END:VEVENT
END:VCALENDAR