BEGIN:VCALENDAR
VERSION:2.0
PRODID:-//Ordine degli Avvocati di Foggia - ECPv4.9.10//NONSGML v1.0//EN
CALSCALE:GREGORIAN
METHOD:PUBLISH
X-WR-CALNAME:Ordine degli Avvocati di Foggia
X-ORIGINAL-URL:https://ordineavvocatifoggia.it
X-WR-CALDESC:Eventi per Ordine degli Avvocati di Foggia
BEGIN:VTIMEZONE
TZID:Europe/Rome
BEGIN:DAYLIGHT
TZOFFSETFROM:+0100
TZOFFSETTO:+0200
TZNAME:CEST
DTSTART:20150329T010000
END:DAYLIGHT
BEGIN:STANDARD
TZOFFSETFROM:+0200
TZOFFSETTO:+0100
TZNAME:CET
DTSTART:20151025T010000
END:STANDARD
END:VTIMEZONE
BEGIN:VEVENT
DTSTART;TZID=Europe/Rome:20150424T153000
DTEND;TZID=Europe/Rome:20150424T193000
DTSTAMP:20260422T051906
CREATED:20150418T163052Z
LAST-MODIFIED:20150418T163052Z
UID:6763-1429889400-1429903800@ordineavvocatifoggia.it
SUMMARY:Seminario "Come cambia il diritto del lavoro dopo il Jobs Act?"
DESCRIPTION:(Contains 1 attachments.)
URL:https://ordineavvocatifoggia.it/event/seminario-come-cambia-il-diritto-del-lavoro-dopo-il-jobs-act/
CATEGORIES:Eventi Formativi
END:VEVENT
END:VCALENDAR