BEGIN:VCALENDAR
VERSION:2.0
PRODID:-//Ordine degli Avvocati di Foggia - ECPv4.9.10//NONSGML v1.0//EN
CALSCALE:GREGORIAN
METHOD:PUBLISH
X-WR-CALNAME:Ordine degli Avvocati di Foggia
X-ORIGINAL-URL:https://ordineavvocatifoggia.it
X-WR-CALDESC:Eventi per Ordine degli Avvocati di Foggia
BEGIN:VTIMEZONE
TZID:Europe/Rome
BEGIN:DAYLIGHT
TZOFFSETFROM:+0100
TZOFFSETTO:+0200
TZNAME:CEST
DTSTART:20150329T010000
END:DAYLIGHT
BEGIN:STANDARD
TZOFFSETFROM:+0200
TZOFFSETTO:+0100
TZNAME:CET
DTSTART:20151025T010000
END:STANDARD
END:VTIMEZONE
BEGIN:VEVENT
DTSTART;TZID=Europe/Rome:20150423T153000
DTEND;TZID=Europe/Rome:20150423T193000
DTSTAMP:20260422T051932
CREATED:20150410T174230Z
LAST-MODIFIED:20150410T174230Z
UID:6714-1429803000-1429817400@ordineavvocatifoggia.it
SUMMARY:Incontro di studio e approfondimento sul PCT
DESCRIPTION:Il convegno è gratuito ed è accreditato ai fini della formazione continua per 4 crediti. \n(Contains 1 attachments.)
URL:https://ordineavvocatifoggia.it/event/incontro-di-studio-e-approfondimento-sul-pct/
CATEGORIES:Eventi Formativi
ATTACH;FMTTYPE=:
END:VEVENT
END:VCALENDAR