BEGIN:VCALENDAR
VERSION:2.0
PRODID:-//Ordine degli Avvocati di Foggia - ECPv4.9.10//NONSGML v1.0//EN
CALSCALE:GREGORIAN
METHOD:PUBLISH
X-WR-CALNAME:Ordine degli Avvocati di Foggia
X-ORIGINAL-URL:https://ordineavvocatifoggia.it
X-WR-CALDESC:Eventi per Ordine degli Avvocati di Foggia
BEGIN:VTIMEZONE
TZID:Europe/Rome
BEGIN:DAYLIGHT
TZOFFSETFROM:+0100
TZOFFSETTO:+0200
TZNAME:CEST
DTSTART:20260329T010000
END:DAYLIGHT
BEGIN:STANDARD
TZOFFSETFROM:+0200
TZOFFSETTO:+0100
TZNAME:CET
DTSTART:20261025T010000
END:STANDARD
END:VTIMEZONE
BEGIN:VEVENT
DTSTART;VALUE=DATE:20260331
DTEND;VALUE=DATE:20260401
DTSTAMP:20260419T133832
CREATED:20260321T141622Z
LAST-MODIFIED:20260321T141622Z
UID:45318-1774915200-1775001599@ordineavvocatifoggia.it
SUMMARY:Udienza dibattimentale del 31/03/2026 Tribunale per i Minorenni di Bari dott.ssa Calvanese
DESCRIPTION:Il provvedimento è allegato. \n\n        \n            Allegati\n        2026.04.24 Rinvii GdP di Manfredonia (485 kB)
URL:https://ordineavvocatifoggia.it/event/udienza-dibattimentale-del-31-03-2026-tribunale-per-i-minorenni-di-bari-dott-ssa-calvanese/
CATEGORIES:Udienze
END:VEVENT
BEGIN:VEVENT
DTSTART;VALUE=DATE:20260331
DTEND;VALUE=DATE:20260401
DTSTAMP:20260419T133832
CREATED:20260326T194427Z
LAST-MODIFIED:20260326T194427Z
UID:45343-1774915200-1775001599@ordineavvocatifoggia.it
SUMMARY:Udienza del 31/03/2026 Giudice di Pace di Lucera dott. Di Lella
DESCRIPTION:Il ruolo di udienza è disponibile in allegato. \n\n        \n            Allegati\n        2026.04.24 Rinvii GdP di Manfredonia (485 kB)
URL:https://ordineavvocatifoggia.it/event/udienza-del-31-03-2026-giudice-di-pace-di-lucera-dott-di-lella/
CATEGORIES:Udienze
END:VEVENT
BEGIN:VEVENT
DTSTART;VALUE=DATE:20260401
DTEND;VALUE=DATE:20260402
DTSTAMP:20260419T133832
CREATED:20260302T132622Z
LAST-MODIFIED:20260302T132622Z
UID:45174-1775001600-1775087999@ordineavvocatifoggia.it
SUMMARY:Udienza del 1/04/2026 Corte di Appello di Bari Terza Sez. Civ.
DESCRIPTION:Il provvedimento è allegato. \n\n        \n            Allegati\n        2026.04.24 Rinvii GdP di Manfredonia (485 kB)
URL:https://ordineavvocatifoggia.it/event/udienza-del-1-04-2026-corte-di-appello-di-bari-terza-sez-civ/
CATEGORIES:Udienze
END:VEVENT
BEGIN:VEVENT
DTSTART;VALUE=DATE:20260401
DTEND;VALUE=DATE:20260402
DTSTAMP:20260419T133832
CREATED:20260326T194840Z
LAST-MODIFIED:20260326T194840Z
UID:45346-1775001600-1775087999@ordineavvocatifoggia.it
SUMMARY:Udienza del 1/04/2026 Ufficio di Sorveglianza di Bari
DESCRIPTION:Il provvedimento è allegato. \n\n        \n            Allegati\n        2026.04.24 Rinvii GdP di Manfredonia (485 kB)
URL:https://ordineavvocatifoggia.it/event/udienza-del-1-04-2026-ufficio-di-sorveglianza-di-bari/
CATEGORIES:Udienze
END:VEVENT
BEGIN:VEVENT
DTSTART;VALUE=DATE:20260401
DTEND;VALUE=DATE:20260402
DTSTAMP:20260419T133832
CREATED:20260326T195056Z
LAST-MODIFIED:20260326T195056Z
UID:45349-1775001600-1775087999@ordineavvocatifoggia.it
SUMMARY:Rinvio udienza del 1/04/2026 Giudice di Pace di Lucera dott.ssa Ferrigni
DESCRIPTION:L’udienza è rinviata d’ufficio come da provvedimento allegato. \n\n        \n            Allegati\n        2026.04.24 Rinvii GdP di Manfredonia (485 kB)
URL:https://ordineavvocatifoggia.it/event/rinvio-udienza-del-1-04-2026-giudice-di-pace-di-lucera-dott-ssa-ferrigni/
CATEGORIES:Rinivii udienze
END:VEVENT
BEGIN:VEVENT
DTSTART;VALUE=DATE:20260402
DTEND;VALUE=DATE:20260403
DTSTAMP:20260419T133832
CREATED:20260321T141726Z
LAST-MODIFIED:20260321T141726Z
UID:45321-1775088000-1775174399@ordineavvocatifoggia.it
SUMMARY:Udienza dibattimentale del 2/04/2026 Tribunale per i Minorenni di Bari dott.ssa Alessio
DESCRIPTION:Il provvedimento è allegato. \n\n        \n            Allegati\n        2026.04.24 Rinvii GdP di Manfredonia (485 kB)
URL:https://ordineavvocatifoggia.it/event/udienza-dibattimentale-del-2-04-2026-tribunale-per-i-minorenni-di-bari-dott-ssa-alessio/
CATEGORIES:Udienze
END:VEVENT
BEGIN:VEVENT
DTSTART;VALUE=DATE:20260402
DTEND;VALUE=DATE:20260403
DTSTAMP:20260419T133832
CREATED:20260331T115313Z
LAST-MODIFIED:20260331T115313Z
UID:45387-1775088000-1775174399@ordineavvocatifoggia.it
SUMMARY:Udienza del 2/04/2026 Tribunale di Sorveglianza di Bari
DESCRIPTION:Il provvedimento è allegato. \n\n        \n            Allegati\n        2026.04.24 Rinvii GdP di Manfredonia (485 kB)
URL:https://ordineavvocatifoggia.it/event/udienza-del-2-04-2026-tribunale-di-sorveglianza-di-bari/
CATEGORIES:Udienze
END:VEVENT
BEGIN:VEVENT
DTSTART;VALUE=DATE:20260407
DTEND;VALUE=DATE:20260408
DTSTAMP:20260419T133832
CREATED:20260320T135536Z
LAST-MODIFIED:20260320T135536Z
UID:45298-1775520000-1775606399@ordineavvocatifoggia.it
SUMMARY:Udienza penale del 7/04/2026 Giudice di Pace di Foggia dott.ssa Bonuomo
DESCRIPTION:Il provvedimento è allegato. \n\n        \n            Allegati\n        2026.04.24 Rinvii GdP di Manfredonia (485 kB)
URL:https://ordineavvocatifoggia.it/event/udienza-penale-del-7-04-2026-giudice-di-pace-di-foggia-dott-ssa-bonuomo/
CATEGORIES:Udienze
END:VEVENT
BEGIN:VEVENT
DTSTART;VALUE=DATE:20260407
DTEND;VALUE=DATE:20260408
DTSTAMP:20260419T133832
CREATED:20260321T141837Z
LAST-MODIFIED:20260321T141858Z
UID:45324-1775520000-1775606399@ordineavvocatifoggia.it
SUMMARY:Udienza dibattimentale del 7/04/2026 Tribunale per i Minorenni di Bari dott.ssa Calvanese
DESCRIPTION:Il provvedimento è allegato. \n\n        \n            Allegati\n        2026.04.24 Rinvii GdP di Manfredonia (485 kB)
URL:https://ordineavvocatifoggia.it/event/udienza-dibattimentale-del-7-04-2026-tribunale-per-i-minorenni-di-bari-dott-ssa-calvanese/
CATEGORIES:Udienze
END:VEVENT
BEGIN:VEVENT
DTSTART;VALUE=DATE:20260407
DTEND;VALUE=DATE:20260408
DTSTAMP:20260419T133832
CREATED:20260330T121014Z
LAST-MODIFIED:20260330T121028Z
UID:45383-1775520000-1775606399@ordineavvocatifoggia.it
SUMMARY:Rinvio udienza del 7/04/2026 Giudice di Pace di Foggia dott.ssa Starvaggi
DESCRIPTION:L’udienza è rinviata d’ufficio come da ruolo allegato. \n\n        \n            Allegati\n        2026.04.24 Rinvii GdP di Manfredonia (485 kB)
URL:https://ordineavvocatifoggia.it/event/rinvio-udienza-del-7-04-2026-giudice-di-pace-di-foggia-dott-ssa-starvaggi/
CATEGORIES:Rinivii udienze
END:VEVENT
BEGIN:VEVENT
DTSTART;VALUE=DATE:20260408
DTEND;VALUE=DATE:20260409
DTSTAMP:20260419T133832
CREATED:20260306T112901Z
LAST-MODIFIED:20260306T112901Z
UID:45211-1775606400-1775692799@ordineavvocatifoggia.it
SUMMARY:Udienza del 8/04/2026 Corte di Appello di Bari Terza Sez. Civ.
DESCRIPTION:Il provvedimento è allegato. \n\n        \n            Allegati\n        2026.04.24 Rinvii GdP di Manfredonia (485 kB)
URL:https://ordineavvocatifoggia.it/event/udienza-del-8-04-2026-corte-di-appello-di-bari-terza-sez-civ/
CATEGORIES:Udienze
END:VEVENT
BEGIN:VEVENT
DTSTART;VALUE=DATE:20260408
DTEND;VALUE=DATE:20260409
DTSTAMP:20260419T133832
CREATED:20260401T141643Z
LAST-MODIFIED:20260401T141643Z
UID:45406-1775606400-1775692799@ordineavvocatifoggia.it
SUMMARY:Rinvio udienza dell'8/04/2026 Giudice di Pace di Foggia dott.ssa Starvaggi
DESCRIPTION:L’udienza è rinviata d’ufficio al giorno 14.10.2026 come da ruolo allegato. \n\n        \n            Allegati\n        2026.04.24 Rinvii GdP di Manfredonia (485 kB)
URL:https://ordineavvocatifoggia.it/event/rinvio-udienza-dell8-04-2026-giudice-di-pace-di-foggia-dott-ssa-starvaggi/
CATEGORIES:Rinivii udienze
END:VEVENT
BEGIN:VEVENT
DTSTART;VALUE=DATE:20260409
DTEND;VALUE=DATE:20260410
DTSTAMP:20260419T133832
CREATED:20260326T195221Z
LAST-MODIFIED:20260326T195221Z
UID:45352-1775692800-1775779199@ordineavvocatifoggia.it
SUMMARY:Udienza penale del 9/04/2026 Giudice di Pace di Foggia dott.ssa Pedarra
DESCRIPTION:Lo statino è allegato. \n\n        \n            Allegati\n        2026.04.24 Rinvii GdP di Manfredonia (485 kB)
URL:https://ordineavvocatifoggia.it/event/udienza-penale-del-9-04-2026-giudice-di-pace-di-foggia-dott-ssa-pedarra/
CATEGORIES:Udienze
END:VEVENT
BEGIN:VEVENT
DTSTART;VALUE=DATE:20260409
DTEND;VALUE=DATE:20260410
DTSTAMP:20260419T133832
CREATED:20260331T115428Z
LAST-MODIFIED:20260331T115428Z
UID:45390-1775692800-1775779199@ordineavvocatifoggia.it
SUMMARY:Udienza del 9/04/2026 Tribunale di Sorveglianza di Bari
DESCRIPTION:Il provvedimento è allegato. \n\n        \n            Allegati\n        2026.04.24 Rinvii GdP di Manfredonia (485 kB)
URL:https://ordineavvocatifoggia.it/event/udienza-del-9-04-2026-tribunale-di-sorveglianza-di-bari/
CATEGORIES:Udienze
END:VEVENT
BEGIN:VEVENT
DTSTART;VALUE=DATE:20260409
DTEND;VALUE=DATE:20260410
DTSTAMP:20260419T133832
CREATED:20260403T110234Z
LAST-MODIFIED:20260403T110234Z
UID:45420-1775692800-1775779199@ordineavvocatifoggia.it
SUMMARY:Udienza del 9/04/2026 Tribunale per i Minorenni di Bari dott.ssa Alessio
DESCRIPTION:Il provvedimento è allegato. \n\n        \n            Allegati\n        2026.04.24 Rinvii GdP di Manfredonia (485 kB)
URL:https://ordineavvocatifoggia.it/event/udienza-del-9-04-2026-tribunale-per-i-minorenni-di-bari-dott-ssa-alessio/
CATEGORIES:Udienze
END:VEVENT
BEGIN:VEVENT
DTSTART;VALUE=DATE:20260410
DTEND;VALUE=DATE:20260411
DTSTAMP:20260419T133832
CREATED:20260331T115600Z
LAST-MODIFIED:20260331T115600Z
UID:45393-1775779200-1775865599@ordineavvocatifoggia.it
SUMMARY:Udienza del 10/04/2026 e rinvii Giudice di Pace di Manfredonia dott.ssa Russo
DESCRIPTION:Il provvedimento è allegato. \n\n        \n            Allegati\n        2026.04.24 Rinvii GdP di Manfredonia (485 kB)
URL:https://ordineavvocatifoggia.it/event/udienza-del-10-04-2026-e-rinvii-giudice-di-pace-di-manfredonia-dott-ssa-russo/
CATEGORIES:Udienze
END:VEVENT
BEGIN:VEVENT
DTSTART;VALUE=DATE:20260413
DTEND;VALUE=DATE:20260414
DTSTAMP:20260419T133832
CREATED:20260327T122332Z
LAST-MODIFIED:20260327T122332Z
UID:45355-1776038400-1776124799@ordineavvocatifoggia.it
SUMMARY:Rinvio udienza del 13/04/2026 Giudice di Pace di Foggia dott.ssa Silvestro
DESCRIPTION:L’udienza è rinviata d’ufficio come da avviso allegato. \n\n        \n            Allegati\n        2026.04.24 Rinvii GdP di Manfredonia (485 kB)
URL:https://ordineavvocatifoggia.it/event/rinvio-udienza-del-13-04-2026-giudice-di-pace-di-foggia-dott-ssa-silvestro/
CATEGORIES:Rinivii udienze
END:VEVENT
BEGIN:VEVENT
DTSTART;VALUE=DATE:20260414
DTEND;VALUE=DATE:20260415
DTSTAMP:20260419T133832
CREATED:20260409T102215Z
LAST-MODIFIED:20260409T102637Z
UID:45423-1776124800-1776211199@ordineavvocatifoggia.it
SUMMARY:Udienza penale del 14/04/2026 Giudice di Pace di Foggia dott.ssa Lovaglio
DESCRIPTION:Lo statino è allegato. \n\n        \n            Allegati\n        2026.04.24 Rinvii GdP di Manfredonia (485 kB)
URL:https://ordineavvocatifoggia.it/event/udienza-penale-del-14-04-2026-giudice-di-pace-di-foggia-dott-ssa-lovaglio/
CATEGORIES:Udienze
END:VEVENT
BEGIN:VEVENT
DTSTART;VALUE=DATE:20260414
DTEND;VALUE=DATE:20260415
DTSTAMP:20260419T133832
CREATED:20260409T102344Z
LAST-MODIFIED:20260409T102344Z
UID:45426-1776124800-1776211199@ordineavvocatifoggia.it
SUMMARY:Udienza penale del 14/04/2026 Giudice di Pace di Trinitapoli Avv. Rizzi
DESCRIPTION:Il provvedimento è allegato. \n\n        \n            Allegati\n        2026.04.24 Rinvii GdP di Manfredonia (485 kB)
URL:https://ordineavvocatifoggia.it/event/udienza-penale-del-14-04-2026-giudice-di-pace-di-trinitapoli-avv-rizzi/
CATEGORIES:Udienze
END:VEVENT
BEGIN:VEVENT
DTSTART;VALUE=DATE:20260414
DTEND;VALUE=DATE:20260415
DTSTAMP:20260419T133832
CREATED:20260409T124636Z
LAST-MODIFIED:20260409T124636Z
UID:45439-1776124800-1776211199@ordineavvocatifoggia.it
SUMMARY:Rinvio udienza del 14/04/2026 Giudice di Pace di Lucera dott. Di Lella
DESCRIPTION:L’udienza è rinviata d’ufficio al giorno 06.10.2026 come da avviso allegato. \n\n        \n            Allegati\n        2026.04.24 Rinvii GdP di Manfredonia (485 kB)
URL:https://ordineavvocatifoggia.it/event/rinvio-udienza-del-14-04-2026-giudice-di-pace-di-lucera-dott-di-lella/
CATEGORIES:Rinivii udienze
END:VEVENT
BEGIN:VEVENT
DTSTART;VALUE=DATE:20260414
DTEND;VALUE=DATE:20260415
DTSTAMP:20260419T133832
CREATED:20260409T124746Z
LAST-MODIFIED:20260409T124746Z
UID:45442-1776124800-1776211199@ordineavvocatifoggia.it
SUMMARY:Udienza dibattimentale del 14/04/2026 Tribunale per i Minorenni di Bari dott.ssa Calvanese
DESCRIPTION:Il provvedimento è allegato. \n\n        \n            Allegati\n        2026.04.24 Rinvii GdP di Manfredonia (485 kB)
URL:https://ordineavvocatifoggia.it/event/udienza-dibattimentale-del-14-04-2026-tribunale-per-i-minorenni-di-bari-dott-ssa-calvanese/
CATEGORIES:Udienze
END:VEVENT
BEGIN:VEVENT
DTSTART;VALUE=DATE:20260414
DTEND;VALUE=DATE:20260415
DTSTAMP:20260419T133832
CREATED:20260411T145824Z
LAST-MODIFIED:20260411T145824Z
UID:45458-1776124800-1776211199@ordineavvocatifoggia.it
SUMMARY:Udienza del 14/04/2026 Tribunale di Sorveglianza di Bari
DESCRIPTION:Il provvedimento è allegato. \n\n        \n            Allegati\n        2026.04.24 Rinvii GdP di Manfredonia (485 kB)
URL:https://ordineavvocatifoggia.it/event/udienza-del-14-04-2026-tribunale-di-sorveglianza-di-bari/
CATEGORIES:Udienze
END:VEVENT
BEGIN:VEVENT
DTSTART;VALUE=DATE:20260414
DTEND;VALUE=DATE:20260415
DTSTAMP:20260419T133832
CREATED:20260415T085149Z
LAST-MODIFIED:20260415T085149Z
UID:45488-1776124800-1776211199@ordineavvocatifoggia.it
SUMMARY:Rinvio udienza del 14/04/2026 Giudice di Pace di Foggia dott.ssa Starvaggi
DESCRIPTION:L’udienza è rinviata d’ufficio al giorno 27.10.2026 come da ruolo allegato. \n\n        \n            Allegati\n        2026.04.24 Rinvii GdP di Manfredonia (485 kB)
URL:https://ordineavvocatifoggia.it/event/rinvio-udienza-del-14-04-2026-giudice-di-pace-di-foggia-dott-ssa-starvaggi/
CATEGORIES:Rinivii udienze
END:VEVENT
BEGIN:VEVENT
DTSTART;VALUE=DATE:20260415
DTEND;VALUE=DATE:20260416
DTSTAMP:20260419T133832
CREATED:20260313T143936Z
LAST-MODIFIED:20260313T143936Z
UID:45242-1776211200-1776297599@ordineavvocatifoggia.it
SUMMARY:Udienza del 15/04/2026 Corte di Appello di Bari Terza Sez. Civ.
DESCRIPTION:Il provvedimento è allegato. \n\n        \n            Allegati\n        2026.04.24 Rinvii GdP di Manfredonia (485 kB)
URL:https://ordineavvocatifoggia.it/event/udienza-del-15-04-2026-corte-di-appello-di-bari-terza-sez-civ/
CATEGORIES:Udienze
END:VEVENT
BEGIN:VEVENT
DTSTART;VALUE=DATE:20260415
DTEND;VALUE=DATE:20260416
DTSTAMP:20260419T133832
CREATED:20260409T124917Z
LAST-MODIFIED:20260409T124917Z
UID:45445-1776211200-1776297599@ordineavvocatifoggia.it
SUMMARY:Rinvio udienza del 15/04/2026 Giudice di Pace di Lucera dott. Di Lella
DESCRIPTION:L’udienza è rinviata d’ufficio al giorno 15.07.2026 come da avviso allegato. \n\n        \n            Allegati\n        2026.04.24 Rinvii GdP di Manfredonia (485 kB)
URL:https://ordineavvocatifoggia.it/event/rinvio-udienza-del-15-04-2026-giudice-di-pace-di-lucera-dott-di-lella/
CATEGORIES:Rinivii udienze
END:VEVENT
BEGIN:VEVENT
DTSTART;VALUE=DATE:20260415
DTEND;VALUE=DATE:20260416
DTSTAMP:20260419T133832
CREATED:20260411T145929Z
LAST-MODIFIED:20260411T145929Z
UID:45461-1776211200-1776297599@ordineavvocatifoggia.it
SUMMARY:Udienza del 15/04/2026 Ufficio di Sorveglianza di Bari
DESCRIPTION:Il provvedimento è allegato. \n\n        \n            Allegati\n        2026.04.24 Rinvii GdP di Manfredonia (485 kB)
URL:https://ordineavvocatifoggia.it/event/udienza-del-15-04-2026-ufficio-di-sorveglianza-di-bari/
CATEGORIES:Udienze
END:VEVENT
BEGIN:VEVENT
DTSTART;VALUE=DATE:20260415
DTEND;VALUE=DATE:20260416
DTSTAMP:20260419T133832
CREATED:20260415T085339Z
LAST-MODIFIED:20260415T085339Z
UID:45491-1776211200-1776297599@ordineavvocatifoggia.it
SUMMARY:Rinvio udienza del 15/04/2026 Giudice di Pace di Foggia dott.ssa Starvaggi
DESCRIPTION:L’udienza è rinviata d’ufficio al giorno 28.10.2026 come da ruolo allegato. \n\n        \n            Allegati\n        2026.04.24 Rinvii GdP di Manfredonia (485 kB)
URL:https://ordineavvocatifoggia.it/event/rinvio-udienza-del-15-04-2026-giudice-di-pace-di-foggia-dott-ssa-starvaggi/
CATEGORIES:Rinivii udienze
END:VEVENT
BEGIN:VEVENT
DTSTART;VALUE=DATE:20260416
DTEND;VALUE=DATE:20260417
DTSTAMP:20260419T133832
CREATED:20260409T102525Z
LAST-MODIFIED:20260409T102525Z
UID:45430-1776297600-1776383999@ordineavvocatifoggia.it
SUMMARY:Udienza penale del 16/04/2026 Giudice di Pace di Manfredonia Avv. Fusaro
DESCRIPTION:Lo statino è allegato. \n\n        \n            Allegati\n        2026.04.24 Rinvii GdP di Manfredonia (485 kB)
URL:https://ordineavvocatifoggia.it/event/udienza-penale-del-16-04-2026-giudice-di-pace-di-manfredonia-avv-fusaro/
CATEGORIES:Udienze
END:VEVENT
BEGIN:VEVENT
DTSTART;VALUE=DATE:20260416
DTEND;VALUE=DATE:20260417
DTSTAMP:20260419T133832
CREATED:20260411T150029Z
LAST-MODIFIED:20260411T150029Z
UID:45464-1776297600-1776383999@ordineavvocatifoggia.it
SUMMARY:Udienza dibattimentale del 16/04/2026 Tribunale per i Minorenni di Bari dott.ssa Alessio
DESCRIPTION:Il provvedimento è allegato. \n\n        \n            Allegati\n        2026.04.24 Rinvii GdP di Manfredonia (485 kB)
URL:https://ordineavvocatifoggia.it/event/udienza-dibattimentale-del-16-04-2026-tribunale-per-i-minorenni-di-bari-dott-ssa-alessio/
CATEGORIES:Udienze
END:VEVENT
BEGIN:VEVENT
DTSTART;VALUE=DATE:20260416
DTEND;VALUE=DATE:20260417
DTSTAMP:20260419T133832
CREATED:20260411T150127Z
LAST-MODIFIED:20260411T150127Z
UID:45467-1776297600-1776383999@ordineavvocatifoggia.it
SUMMARY:Udienza del 16/04/2026 Tribunale di Sorveglianza di Bari
DESCRIPTION:Il provvedimento è allegato. \n\n        \n            Allegati\n        2026.04.24 Rinvii GdP di Manfredonia (485 kB)
URL:https://ordineavvocatifoggia.it/event/udienza-del-16-04-2026-tribunale-di-sorveglianza-di-bari/
CATEGORIES:Udienze
END:VEVENT
BEGIN:VEVENT
DTSTART;VALUE=DATE:20260420
DTEND;VALUE=DATE:20260421
DTSTAMP:20260419T133832
CREATED:20260410T140545Z
LAST-MODIFIED:20260410T140545Z
UID:45455-1776643200-1776729599@ordineavvocatifoggia.it
SUMMARY:Rinvio udienza del 20/04/2026 Tribunale di Foggia S.L. dott.ssa Vitarelli
DESCRIPTION:L’udienza è rinviata d’ufficio al giorno 08.06.2026 come da provvedimento allegato. \n  \n\n        \n            Allegati\n        2026.04.24 Rinvii GdP di Manfredonia (485 kB)
URL:https://ordineavvocatifoggia.it/event/rinvio-udienza-del-20-04-2026-tribunale-di-foggia-s-l-dott-ssa-vitarelli/
CATEGORIES:Rinivii udienze
END:VEVENT
BEGIN:VEVENT
DTSTART;VALUE=DATE:20260421
DTEND;VALUE=DATE:20260422
DTSTAMP:20260419T133832
CREATED:20260411T150236Z
LAST-MODIFIED:20260411T150236Z
UID:45470-1776729600-1776815999@ordineavvocatifoggia.it
SUMMARY:Udienza del 21/04/2026 Tribunale di Sorveglianza di Bari
DESCRIPTION:Il provvedimento è allegato. \n\n        \n            Allegati\n        2026.04.24 Rinvii GdP di Manfredonia (485 kB)
URL:https://ordineavvocatifoggia.it/event/udienza-del-21-04-2026-tribunale-di-sorveglianza-di-bari/
CATEGORIES:Udienze
END:VEVENT
BEGIN:VEVENT
DTSTART;VALUE=DATE:20260421
DTEND;VALUE=DATE:20260422
DTSTAMP:20260419T133832
CREATED:20260413T124444Z
LAST-MODIFIED:20260413T124444Z
UID:45476-1776729600-1776815999@ordineavvocatifoggia.it
SUMMARY:Udienza del 21/04/2026 Giudice di Pace di Lucera dott. Di Lella
DESCRIPTION:Il ruolo di udienza è disponibile in allegato. \n\n        \n            Allegati\n        2026.04.24 Rinvii GdP di Manfredonia (485 kB)
URL:https://ordineavvocatifoggia.it/event/udienza-del-21-04-2026-giudice-di-pace-di-lucera-dott-di-lella/
CATEGORIES:Udienze
END:VEVENT
BEGIN:VEVENT
DTSTART;VALUE=DATE:20260421
DTEND;VALUE=DATE:20260422
DTSTAMP:20260419T133832
CREATED:20260413T124549Z
LAST-MODIFIED:20260413T124549Z
UID:45479-1776729600-1776815999@ordineavvocatifoggia.it
SUMMARY:Udienza penale del 21/04/2026 Giudice di Pace di Foggia dott.ssa Bonuomo
DESCRIPTION:Il provvedimento è allegato. \n\n        \n            Allegati\n        2026.04.24 Rinvii GdP di Manfredonia (485 kB)
URL:https://ordineavvocatifoggia.it/event/udienza-penale-del-21-04-2026-giudice-di-pace-di-foggia-dott-ssa-bonuomo/
CATEGORIES:Udienze
END:VEVENT
BEGIN:VEVENT
DTSTART;VALUE=DATE:20260421
DTEND;VALUE=DATE:20260422
DTSTAMP:20260419T133832
CREATED:20260415T092509Z
LAST-MODIFIED:20260415T092509Z
UID:45504-1776729600-1776815999@ordineavvocatifoggia.it
SUMMARY:Rinvio udienza del 21/04/2026 Tribunale di Foggia S.L. dott.ssa Ricucci
DESCRIPTION:L’udienza è rinviata d’ufficio al giorno 07.07.2026 come da provvedimento allegato. \n\n        \n            Allegati\n        2026.04.24 Rinvii GdP di Manfredonia (485 kB)
URL:https://ordineavvocatifoggia.it/event/rinvio-udienza-del-21-04-2026-tribunale-di-foggia-s-l-dott-ssa-ricucci/
CATEGORIES:Rinivii udienze
END:VEVENT
BEGIN:VEVENT
DTSTART;VALUE=DATE:20260421
DTEND;VALUE=DATE:20260422
DTSTAMP:20260419T133832
CREATED:20260417T095635Z
LAST-MODIFIED:20260417T095635Z
UID:45507-1776729600-1776815999@ordineavvocatifoggia.it
SUMMARY:Udienza dibattimentale del 21/04/2026 Tribunale per i Minorenni di Bari dott.ssa Calvanese
DESCRIPTION:Il provvedimento è allegato. \n\n        \n            Allegati\n        2026.04.24 Rinvii GdP di Manfredonia (485 kB)
URL:https://ordineavvocatifoggia.it/event/udienza-dibattimentale-del-21-04-2026-tribunale-per-i-minorenni-di-bari-dott-ssa-calvanese/
CATEGORIES:Udienze
END:VEVENT
BEGIN:VEVENT
DTSTART;VALUE=DATE:20260422
DTEND;VALUE=DATE:20260423
DTSTAMP:20260419T133832
CREATED:20260320T135700Z
LAST-MODIFIED:20260320T135700Z
UID:45301-1776816000-1776902399@ordineavvocatifoggia.it
SUMMARY:Udienza del 22/04/2026 Corte di Appello di Bari Terza Sez. Civ.
DESCRIPTION:Il provvedimento è allegato. \n\n        \n            Allegati\n        2026.04.24 Rinvii GdP di Manfredonia (485 kB)
URL:https://ordineavvocatifoggia.it/event/udienza-del-22-04-2026-corte-di-appello-di-bari-terza-sez-civ/
CATEGORIES:Udienze
END:VEVENT
BEGIN:VEVENT
DTSTART;VALUE=DATE:20260422
DTEND;VALUE=DATE:20260423
DTSTAMP:20260419T133832
CREATED:20260413T124720Z
LAST-MODIFIED:20260413T124720Z
UID:45482-1776816000-1776902399@ordineavvocatifoggia.it
SUMMARY:Rinvio udienza del 22/04/2026 Tribunale di Foggia S.L. dott.ssa Ricucci
DESCRIPTION:L’udienza è rinviata d’ufficio al giorno 27.05.2026 come da provvedimento allegato. \n\n        \n            Allegati\n        2026.04.24 Rinvii GdP di Manfredonia (485 kB)
URL:https://ordineavvocatifoggia.it/event/rinvio-udienza-del-22-04-2026-tribunale-di-foggia-s-l-dott-ssa-ricucci/
CATEGORIES:Rinivii udienze
END:VEVENT
BEGIN:VEVENT
DTSTART;VALUE=DATE:20260422
DTEND;VALUE=DATE:20260423
DTSTAMP:20260419T133832
CREATED:20260418T092020Z
LAST-MODIFIED:20260418T092020Z
UID:45515-1776816000-1776902399@ordineavvocatifoggia.it
SUMMARY:Udienza penale del 22/04/2026 Giudice di Pace di Lucera dott.ssa Ferrigni
DESCRIPTION:Il provvedimento è allegato. \n\n        \n            Allegati\n        2026.04.24 Rinvii GdP di Manfredonia (485 kB)
URL:https://ordineavvocatifoggia.it/event/udienza-penale-del-22-04-2026-giudice-di-pace-di-lucera-dott-ssa-ferrigni/
CATEGORIES:Udienze
END:VEVENT
BEGIN:VEVENT
DTSTART;VALUE=DATE:20260423
DTEND;VALUE=DATE:20260424
DTSTAMP:20260419T133832
CREATED:20260409T125101Z
LAST-MODIFIED:20260409T125101Z
UID:45448-1776902400-1776988799@ordineavvocatifoggia.it
SUMMARY:Rinvio udienza del 23/04/2026 Giudice di Pace di Lucera Avv. Lufino
DESCRIPTION:L’udienza è rinviata d’ufficio al giorno 17.09.2026 come da avviso allegato. \n\n        \n            Allegati\n        2026.04.24 Rinvii GdP di Manfredonia (485 kB)
URL:https://ordineavvocatifoggia.it/event/rinvio-udienza-del-23-04-2026-giudice-di-pace-di-lucera-avv-lufino/
CATEGORIES:Rinivii udienze
END:VEVENT
BEGIN:VEVENT
DTSTART;VALUE=DATE:20260423
DTEND;VALUE=DATE:20260424
DTSTAMP:20260419T133832
CREATED:20260418T092124Z
LAST-MODIFIED:20260418T092124Z
UID:45518-1776902400-1776988799@ordineavvocatifoggia.it
SUMMARY:Udienza del 23/04/2026 Tribunale di Sorveglianza di Bari
DESCRIPTION:Il provvedimento è allegato. \n\n        \n            Allegati\n        2026.04.24 Rinvii GdP di Manfredonia (485 kB)
URL:https://ordineavvocatifoggia.it/event/udienza-del-23-04-2026-tribunale-di-sorveglianza-di-bari/
CATEGORIES:Udienze
END:VEVENT
BEGIN:VEVENT
DTSTART;VALUE=DATE:20260424
DTEND;VALUE=DATE:20260425
DTSTAMP:20260419T133832
CREATED:20260413T125057Z
LAST-MODIFIED:20260413T125057Z
UID:45485-1776988800-1777075199@ordineavvocatifoggia.it
SUMMARY:Udienza del 24/04/2026 e rinvii Giudice di Pace di Manfredonia Avv. Lufino
DESCRIPTION:Il provvedimento è allegato. \n\n        \n            Allegati\n        2026.04.24 Rinvii GdP di Manfredonia (485 kB)
URL:https://ordineavvocatifoggia.it/event/udienza-del-24-04-2026-e-rinvii-giudice-di-pace-di-manfredonia-avv-lufino/
CATEGORIES:Rinivii udienze,Udienze
END:VEVENT
BEGIN:VEVENT
DTSTART;VALUE=DATE:20260424
DTEND;VALUE=DATE:20260425
DTSTAMP:20260419T133832
CREATED:20260418T092239Z
LAST-MODIFIED:20260418T092239Z
UID:45521-1776988800-1777075199@ordineavvocatifoggia.it
SUMMARY:Udienza del 24/04/2026 e rinvii Giudice di Pace di Manfredonia Avv. Lufino
DESCRIPTION:Il provvedimento è allegato. \n\n        \n            Allegati\n        2026.04.24 Rinvii GdP di Manfredonia (485 kB)
URL:https://ordineavvocatifoggia.it/event/udienza-del-24-04-2026-e-rinvii-giudice-di-pace-di-manfredonia-avv-lufino-2/
CATEGORIES:Rinivii udienze,Udienze
END:VEVENT
BEGIN:VEVENT
DTSTART;VALUE=DATE:20260428
DTEND;VALUE=DATE:20260429
DTSTAMP:20260419T133832
CREATED:20260401T142415Z
LAST-MODIFIED:20260401T142415Z
UID:45412-1777334400-1777420799@ordineavvocatifoggia.it
SUMMARY:Rinvio udienza del 28/04/2026 Giudice di Pace di Foggia dott.ssa Starvaggi
DESCRIPTION:L’udienza è rinviata d’ufficio al giorno 20.10.2026 come da ruolo allegato. \n\n        \n            Allegati\n        2026.04.24 Rinvii GdP di Manfredonia (485 kB)
URL:https://ordineavvocatifoggia.it/event/rinvio-udienza-del-28-04-2026-giudice-di-pace-di-foggia-dott-ssa-starvaggi/
CATEGORIES:Rinivii udienze
END:VEVENT
BEGIN:VEVENT
DTSTART;VALUE=DATE:20260429
DTEND;VALUE=DATE:20260430
DTSTAMP:20260419T133832
CREATED:20260401T141121Z
LAST-MODIFIED:20260401T141121Z
UID:45403-1777420800-1777507199@ordineavvocatifoggia.it
SUMMARY:Udienza del 29/04/2026 Corte di Appello di Bari Terza Sez. Civ.
DESCRIPTION:Il provvedimento è allegato. \n  \n\n        \n            Allegati\n        2026.04.24 Rinvii GdP di Manfredonia (485 kB)
URL:https://ordineavvocatifoggia.it/event/udienza-del-29-04-2026-corte-di-appello-di-bari-terza-sez-civ/
CATEGORIES:Udienze
END:VEVENT
BEGIN:VEVENT
DTSTART;VALUE=DATE:20260429
DTEND;VALUE=DATE:20260430
DTSTAMP:20260419T133832
CREATED:20260401T141921Z
LAST-MODIFIED:20260401T141921Z
UID:45409-1777420800-1777507199@ordineavvocatifoggia.it
SUMMARY:Rinvio udienza del 29/04/2026 Giudice di Pace di Foggia dott.ssa Starvaggi
DESCRIPTION:L’udienza è rinviata d’ufficio al giorno 21.10.2026 come da ruolo allegato. \n\n        \n            Allegati\n        2026.04.24 Rinvii GdP di Manfredonia (485 kB)
URL:https://ordineavvocatifoggia.it/event/rinvio-udienza-del-29-04-2026-giudice-di-pace-di-foggia-dott-ssa-starvaggi/
CATEGORIES:Rinivii udienze
END:VEVENT
END:VCALENDAR