BEGIN:VCALENDAR
VERSION:2.0
PRODID:-//Ordine degli Avvocati di Foggia - ECPv4.9.10//NONSGML v1.0//EN
CALSCALE:GREGORIAN
METHOD:PUBLISH
X-WR-CALNAME:Ordine degli Avvocati di Foggia
X-ORIGINAL-URL:https://ordineavvocatifoggia.it
X-WR-CALDESC:Eventi per Ordine degli Avvocati di Foggia
BEGIN:VTIMEZONE
TZID:Europe/Rome
BEGIN:DAYLIGHT
TZOFFSETFROM:+0100
TZOFFSETTO:+0200
TZNAME:CEST
DTSTART:20260329T010000
END:DAYLIGHT
BEGIN:STANDARD
TZOFFSETFROM:+0200
TZOFFSETTO:+0100
TZNAME:CET
DTSTART:20261025T010000
END:STANDARD
END:VTIMEZONE
BEGIN:VEVENT
DTSTART;VALUE=DATE:20260325
DTEND;VALUE=DATE:20260326
DTSTAMP:20260424T170018
CREATED:20260220T144000Z
LAST-MODIFIED:20260220T144000Z
UID:45124-1774396800-1774483199@ordineavvocatifoggia.it
SUMMARY:Udienza del 25/03/2026 Corte di Appello di Bari Terza Sez. Civ.
DESCRIPTION:Il provvedimento è allegato. \n\n        \n            Allegati\n        decreto presidenziae udienza del 25-3-2026 (203 kB)
URL:https://ordineavvocatifoggia.it/event/udienza-del-25-03-2026-corte-di-appello-di-bari-terza-sez-civ/
CATEGORIES:Udienze
END:VEVENT
BEGIN:VEVENT
DTSTART;VALUE=DATE:20260325
DTEND;VALUE=DATE:20260326
DTSTAMP:20260424T170018
CREATED:20260314T173918Z
LAST-MODIFIED:20260314T173918Z
UID:45267-1774396800-1774483199@ordineavvocatifoggia.it
SUMMARY:Rinvio udienza del 25/03/2026 Giudice di Pace di Lucera dott.ssa Ferrigni
DESCRIPTION:L’udienza è rinviata d’ufficio come da avviso allegato. \n\n        \n            Allegati\n        decreto presidenziae udienza del 25-3-2026 (203 kB)
URL:https://ordineavvocatifoggia.it/event/rinvio-udienza-del-25-03-2026-giudice-di-pace-di-lucera-dott-ssa-ferrigni/
CATEGORIES:Rinivii udienze
END:VEVENT
BEGIN:VEVENT
DTSTART;VALUE=DATE:20260325
DTEND;VALUE=DATE:20260326
DTSTAMP:20260424T170018
CREATED:20260321T141406Z
LAST-MODIFIED:20260321T141406Z
UID:45312-1774396800-1774483199@ordineavvocatifoggia.it
SUMMARY:Udienza del 25/03/2026 Giudice di Pace di Lucera dott.ssa Ferrigni
DESCRIPTION:Il provvedimento è allegato. \n\n        \n            Allegati\n        decreto presidenziae udienza del 25-3-2026 (203 kB)
URL:https://ordineavvocatifoggia.it/event/udienza-del-25-03-2026-giudice-di-pace-di-lucera-dott-ssa-ferrigni/
CATEGORIES:Udienze
END:VEVENT
END:VCALENDAR