BEGIN:VCALENDAR
VERSION:2.0
PRODID:-//Ordine degli Avvocati di Foggia - ECPv4.9.10//NONSGML v1.0//EN
CALSCALE:GREGORIAN
METHOD:PUBLISH
X-WR-CALNAME:Ordine degli Avvocati di Foggia
X-ORIGINAL-URL:https://ordineavvocatifoggia.it
X-WR-CALDESC:Eventi per Ordine degli Avvocati di Foggia
BEGIN:VTIMEZONE
TZID:Europe/Rome
BEGIN:DAYLIGHT
TZOFFSETFROM:+0100
TZOFFSETTO:+0200
TZNAME:CEST
DTSTART:20260329T010000
END:DAYLIGHT
BEGIN:STANDARD
TZOFFSETFROM:+0200
TZOFFSETTO:+0100
TZNAME:CET
DTSTART:20261025T010000
END:STANDARD
END:VTIMEZONE
BEGIN:VEVENT
DTSTART;VALUE=DATE:20260109
DTEND;VALUE=DATE:20260110
DTSTAMP:20260424T212342
CREATED:20251221T093726Z
LAST-MODIFIED:20251221T093726Z
UID:44791-1767916800-1768003199@ordineavvocatifoggia.it
SUMMARY:Udienza del 9/01/2026 e rinvii Giudice di Pace di Manfredonia dott.ssa Russo
DESCRIPTION:Il provvedimento è allegato. \n\n        \n            Allegati\n        2026.01.09 udienza-rinvio GdP di Manfredonia (539 kB)
URL:https://ordineavvocatifoggia.it/event/udienza-del-9-01-2026-e-rinvii-giudice-di-pace-di-manfredonia-dott-ssa-russo/
CATEGORIES:Rinivii udienze,Udienze
END:VEVENT
BEGIN:VEVENT
DTSTART;VALUE=DATE:20260109
DTEND;VALUE=DATE:20260110
DTSTAMP:20260424T212342
CREATED:20260103T060645Z
LAST-MODIFIED:20260103T060645Z
UID:44815-1767916800-1768003199@ordineavvocatifoggia.it
SUMMARY:Udienza penale del 9/01/2026 Giudice di Pace di Lucera dott.ssa Ferrigni
DESCRIPTION:Il provvedimento è allegato. \n\n        \n            Allegati\n        2026.01.09 udienza-rinvio GdP di Manfredonia (539 kB)
URL:https://ordineavvocatifoggia.it/event/udienza-penale-del-9-01-2026-giudice-di-pace-di-lucera-dott-ssa-ferrigni/
CATEGORIES:Udienze
END:VEVENT
END:VCALENDAR