BEGIN:VCALENDAR
VERSION:2.0
PRODID:-//Ordine degli Avvocati di Foggia - ECPv4.9.10//NONSGML v1.0//EN
CALSCALE:GREGORIAN
METHOD:PUBLISH
X-WR-CALNAME:Ordine degli Avvocati di Foggia
X-ORIGINAL-URL:https://ordineavvocatifoggia.it
X-WR-CALDESC:Eventi per Ordine degli Avvocati di Foggia
BEGIN:VTIMEZONE
TZID:Europe/Rome
BEGIN:DAYLIGHT
TZOFFSETFROM:+0100
TZOFFSETTO:+0200
TZNAME:CEST
DTSTART:20250330T010000
END:DAYLIGHT
BEGIN:STANDARD
TZOFFSETFROM:+0200
TZOFFSETTO:+0100
TZNAME:CET
DTSTART:20251026T010000
END:STANDARD
END:VTIMEZONE
BEGIN:VEVENT
DTSTART;VALUE=DATE:20251215
DTEND;VALUE=DATE:20251216
DTSTAMP:20260424T212429
CREATED:20251216T100633Z
LAST-MODIFIED:20251216T100941Z
UID:44773-1765756800-1765843199@ordineavvocatifoggia.it
SUMMARY:Rinvio udienza del 15/12/2025 Giudice di Pace di Foggia dott.ssa Lovaglio
DESCRIPTION:L’udienza è rinviata d’ufficio come da ruolo allegato. \n\n        \n            Allegati\n        Lovaglio 15 12 2025 (326 kB)
URL:https://ordineavvocatifoggia.it/event/rinvio-udienza-del-15-12-2025-giudice-di-pace-di-foggia-dott-ssa-lovaglio/
CATEGORIES:Rinivii udienze
END:VEVENT
END:VCALENDAR