BEGIN:VCALENDAR
VERSION:2.0
PRODID:-//Ordine degli Avvocati di Foggia - ECPv4.9.10//NONSGML v1.0//EN
CALSCALE:GREGORIAN
METHOD:PUBLISH
X-WR-CALNAME:Ordine degli Avvocati di Foggia
X-ORIGINAL-URL:https://ordineavvocatifoggia.it
X-WR-CALDESC:Eventi per Ordine degli Avvocati di Foggia
BEGIN:VTIMEZONE
TZID:Europe/Rome
BEGIN:DAYLIGHT
TZOFFSETFROM:+0100
TZOFFSETTO:+0200
TZNAME:CEST
DTSTART:20250330T010000
END:DAYLIGHT
BEGIN:STANDARD
TZOFFSETFROM:+0200
TZOFFSETTO:+0100
TZNAME:CET
DTSTART:20251026T010000
END:STANDARD
END:VTIMEZONE
BEGIN:VEVENT
DTSTART;VALUE=DATE:20251128
DTEND;VALUE=DATE:20251129
DTSTAMP:20260424T224904
CREATED:20251111T153758Z
LAST-MODIFIED:20251111T153758Z
UID:44536-1764288000-1764374399@ordineavvocatifoggia.it
SUMMARY:Udienza del 28/11/2025 e rinvii Giudice di Pace di Manfredonia Avv. Lufino
DESCRIPTION:Il provvedimento è allegato. \n\n        \n            Allegati\n        udienza civile 28.11.2025 (515 kB)
URL:https://ordineavvocatifoggia.it/event/udienza-del-28-11-2025-e-rinvii-giudice-di-pace-di-manfredonia-avv-lufino/
CATEGORIES:Rinivii udienze,Udienze
END:VEVENT
END:VCALENDAR