BEGIN:VCALENDAR
VERSION:2.0
PRODID:-//Ordine degli Avvocati di Foggia - ECPv4.9.10//NONSGML v1.0//EN
CALSCALE:GREGORIAN
METHOD:PUBLISH
X-WR-CALNAME:Ordine degli Avvocati di Foggia
X-ORIGINAL-URL:https://ordineavvocatifoggia.it
X-WR-CALDESC:Eventi per Ordine degli Avvocati di Foggia
BEGIN:VTIMEZONE
TZID:Europe/Rome
BEGIN:DAYLIGHT
TZOFFSETFROM:+0100
TZOFFSETTO:+0200
TZNAME:CEST
DTSTART:20250330T010000
END:DAYLIGHT
BEGIN:STANDARD
TZOFFSETFROM:+0200
TZOFFSETTO:+0100
TZNAME:CET
DTSTART:20251026T010000
END:STANDARD
END:VTIMEZONE
BEGIN:VEVENT
DTSTART;VALUE=DATE:20251002
DTEND;VALUE=DATE:20251003
DTSTAMP:20260425T000739
CREATED:20250926T115425Z
LAST-MODIFIED:20250926T115425Z
UID:44197-1759363200-1759449599@ordineavvocatifoggia.it
SUMMARY:Udienza del 2/10/2025 Tribunale di Sorveglianza di Bari
DESCRIPTION:Il provvedimento è allegato. \n\n        \n            Allegati\n        2025.10.02 Udienza Tribunale Sorveglianza Bari (516 kB)
URL:https://ordineavvocatifoggia.it/event/udienza-del-2-10-2025-tribunale-di-sorveglianza-di-bari/
CATEGORIES:Udienze
END:VEVENT
BEGIN:VEVENT
DTSTART;VALUE=DATE:20251002
DTEND;VALUE=DATE:20251003
DTSTAMP:20260425T000739
CREATED:20250929T124951Z
LAST-MODIFIED:20250929T124951Z
UID:44214-1759363200-1759449599@ordineavvocatifoggia.it
SUMMARY:Udienza dibattimentale del 2/10/2025 Tribunale per i Minorenni di Bari dott.ssa Alessio
DESCRIPTION:Il documento è allegato. \n\n        \n            Allegati\n        2025.10.02 Udienza Tribunale Sorveglianza Bari (516 kB)
URL:https://ordineavvocatifoggia.it/event/udienza-dibattimentale-del-2-10-2025-tribunale-per-i-minorenni-di-bari-dott-ssa-alessio/
CATEGORIES:Udienze
END:VEVENT
END:VCALENDAR