BEGIN:VCALENDAR
VERSION:2.0
PRODID:-//Ordine degli Avvocati di Foggia - ECPv4.9.10//NONSGML v1.0//EN
CALSCALE:GREGORIAN
METHOD:PUBLISH
X-WR-CALNAME:Ordine degli Avvocati di Foggia
X-ORIGINAL-URL:https://ordineavvocatifoggia.it
X-WR-CALDESC:Eventi per Ordine degli Avvocati di Foggia
BEGIN:VTIMEZONE
TZID:Europe/Rome
BEGIN:DAYLIGHT
TZOFFSETFROM:+0100
TZOFFSETTO:+0200
TZNAME:CEST
DTSTART:20250330T010000
END:DAYLIGHT
BEGIN:STANDARD
TZOFFSETFROM:+0200
TZOFFSETTO:+0100
TZNAME:CET
DTSTART:20251026T010000
END:STANDARD
END:VTIMEZONE
BEGIN:VEVENT
DTSTART;VALUE=DATE:20250925
DTEND;VALUE=DATE:20250926
DTSTAMP:20260425T013815
CREATED:20250917T111216Z
LAST-MODIFIED:20250917T111216Z
UID:44152-1758758400-1758844799@ordineavvocatifoggia.it
SUMMARY:Udienza del 25/09/2025 Tribunale di Sorveglianza di Bari
DESCRIPTION:Il provvedimento è allegato. \n
URL:https://ordineavvocatifoggia.it/event/udienza-del-25-09-2025-tribunale-di-sorveglianza-di-bari/
CATEGORIES:Udienze
END:VEVENT
BEGIN:VEVENT
DTSTART;VALUE=DATE:20250925
DTEND;VALUE=DATE:20250926
DTSTAMP:20260425T013815
CREATED:20250918T133047Z
LAST-MODIFIED:20250918T133047Z
UID:44157-1758758400-1758844799@ordineavvocatifoggia.it
SUMMARY:Udienza penale del 25/09/2025 Giudice di Pace di Foggia dott.ssa Pedarra
DESCRIPTION:Lo statino è allegato. \n
URL:https://ordineavvocatifoggia.it/event/udienza-penale-del-25-09-2025-giudice-di-pace-di-foggia-dott-ssa-pedarra/
CATEGORIES:Udienze
END:VEVENT
BEGIN:VEVENT
DTSTART;VALUE=DATE:20250925
DTEND;VALUE=DATE:20250926
DTSTAMP:20260425T013815
CREATED:20250922T115938Z
LAST-MODIFIED:20250922T115938Z
UID:44169-1758758400-1758844799@ordineavvocatifoggia.it
SUMMARY:Udienza penale del 25/09/2025 Giudice di Pace di Lucera dott. Di Lella
DESCRIPTION:Il provvedimento è allegato. \n
URL:https://ordineavvocatifoggia.it/event/udienza-penale-del-25-09-2025-giudice-di-pace-di-lucera-dott-di-lella/
CATEGORIES:Udienze
END:VEVENT
BEGIN:VEVENT
DTSTART;VALUE=DATE:20250925
DTEND;VALUE=DATE:20250926
DTSTAMP:20260425T013815
CREATED:20250922T120030Z
LAST-MODIFIED:20250922T120030Z
UID:44172-1758758400-1758844799@ordineavvocatifoggia.it
SUMMARY:Udienza dibattimentale del 25/09/2025 Tribunale per i Minorenni di Bari dott.ssa Alessio
DESCRIPTION:Il provvedimento è allegato. \n
URL:https://ordineavvocatifoggia.it/event/udienza-dibattimentale-del-25-09-2025-tribunale-per-i-minorenni-di-bari-dott-ssa-alessio/
CATEGORIES:Udienze
END:VEVENT
END:VCALENDAR