BEGIN:VCALENDAR
VERSION:2.0
PRODID:-//Ordine degli Avvocati di Foggia - ECPv4.9.10//NONSGML v1.0//EN
CALSCALE:GREGORIAN
METHOD:PUBLISH
X-WR-CALNAME:Ordine degli Avvocati di Foggia
X-ORIGINAL-URL:https://ordineavvocatifoggia.it
X-WR-CALDESC:Eventi per Ordine degli Avvocati di Foggia
BEGIN:VTIMEZONE
TZID:Europe/Rome
BEGIN:DAYLIGHT
TZOFFSETFROM:+0100
TZOFFSETTO:+0200
TZNAME:CEST
DTSTART:20250330T010000
END:DAYLIGHT
BEGIN:STANDARD
TZOFFSETFROM:+0200
TZOFFSETTO:+0100
TZNAME:CET
DTSTART:20251026T010000
END:STANDARD
END:VTIMEZONE
BEGIN:VEVENT
DTSTART;VALUE=DATE:20250923
DTEND;VALUE=DATE:20250924
DTSTAMP:20260425T031341
CREATED:20250904T150728Z
LAST-MODIFIED:20250904T150728Z
UID:44068-1758585600-1758671999@ordineavvocatifoggia.it
SUMMARY:Rinvio udienza del 23/09/2025 Giudice di Pace di Foggia dott.ssa Bonuomo
DESCRIPTION:L’udienza è rinviata d’ufficio al giorno 30/09/2025. \n
URL:https://ordineavvocatifoggia.it/event/rinvio-udienza-del-23-09-2025-giudice-di-pace-di-foggia-dott-ssa-bonuomo/
CATEGORIES:Rinivii udienze
END:VEVENT
BEGIN:VEVENT
DTSTART;VALUE=DATE:20250923
DTEND;VALUE=DATE:20250924
DTSTAMP:20260425T031341
CREATED:20250904T150853Z
LAST-MODIFIED:20250904T150853Z
UID:44070-1758585600-1758671999@ordineavvocatifoggia.it
SUMMARY:Udienza penale del 23/09/2025 Giudice di Pace di San Giovanni Rotondo dott.ssa Bonuomo
DESCRIPTION:Il provvedimento è allegato. \n
URL:https://ordineavvocatifoggia.it/event/udienza-penale-del-23-09-2025-giudice-di-pace-di-san-giovanni-rotondo-dott-ssa-bonuomo/
CATEGORIES:Udienze
END:VEVENT
BEGIN:VEVENT
DTSTART;VALUE=DATE:20250923
DTEND;VALUE=DATE:20250924
DTSTAMP:20260425T031341
CREATED:20250915T121607Z
LAST-MODIFIED:20250915T121607Z
UID:44123-1758585600-1758671999@ordineavvocatifoggia.it
SUMMARY:Udienza penale del 23/09/2025 Giudice di Pace di Foggia dott.ssa Lovaglio
DESCRIPTION:Lo statino è allegato. \n
URL:https://ordineavvocatifoggia.it/event/udienza-penale-del-23-09-2025-giudice-di-pace-di-foggia-dott-ssa-lovaglio/
CATEGORIES:Udienze
END:VEVENT
BEGIN:VEVENT
DTSTART;VALUE=DATE:20250923
DTEND;VALUE=DATE:20250924
DTSTAMP:20260425T031341
CREATED:20250917T111122Z
LAST-MODIFIED:20250917T111122Z
UID:44149-1758585600-1758671999@ordineavvocatifoggia.it
SUMMARY:Udienza dibattimentale del 23/09/2025 Tribunale per i Minorenni di Bari dott.ssa Calvanese
DESCRIPTION:Il provvedimento è allegato. \n
URL:https://ordineavvocatifoggia.it/event/udienza-dibattimentale-del-23-09-2025-tribunale-per-i-minorenni-di-bari-dott-ssa-calvanese/
CATEGORIES:Udienze
END:VEVENT
BEGIN:VEVENT
DTSTART;VALUE=DATE:20250923
DTEND;VALUE=DATE:20250924
DTSTAMP:20260425T031341
CREATED:20250922T115705Z
LAST-MODIFIED:20250922T115705Z
UID:44163-1758585600-1758671999@ordineavvocatifoggia.it
SUMMARY:Udienza del 23/09/2025 Giudice di Pace di Lucera dott. Di Lella
DESCRIPTION:Il ruolo di udienza è disponibile in allegato. \n
URL:https://ordineavvocatifoggia.it/event/udienza-del-23-09-2025-giudice-di-pace-di-lucera-dott-di-lella/
CATEGORIES:Udienze
END:VEVENT
BEGIN:VEVENT
DTSTART;VALUE=DATE:20250923
DTEND;VALUE=DATE:20250924
DTSTAMP:20260425T031341
CREATED:20250922T115755Z
LAST-MODIFIED:20250922T115808Z
UID:44166-1758585600-1758671999@ordineavvocatifoggia.it
SUMMARY:Udienza del 23/09/2025 Tribunale di Sorveglianza di Bari
DESCRIPTION:Il provvedimento è allegato. \n
URL:https://ordineavvocatifoggia.it/event/udienza-del-23-09-2025-tribunale-di-sorveglianza-di-bari/
CATEGORIES:Udienze
END:VEVENT
END:VCALENDAR