BEGIN:VCALENDAR
VERSION:2.0
PRODID:-//Ordine degli Avvocati di Foggia - ECPv4.9.10//NONSGML v1.0//EN
CALSCALE:GREGORIAN
METHOD:PUBLISH
X-WR-CALNAME:Ordine degli Avvocati di Foggia
X-ORIGINAL-URL:https://ordineavvocatifoggia.it
X-WR-CALDESC:Eventi per Ordine degli Avvocati di Foggia
BEGIN:VTIMEZONE
TZID:Europe/Rome
BEGIN:DAYLIGHT
TZOFFSETFROM:+0100
TZOFFSETTO:+0200
TZNAME:CEST
DTSTART:20250330T010000
END:DAYLIGHT
BEGIN:STANDARD
TZOFFSETFROM:+0200
TZOFFSETTO:+0100
TZNAME:CET
DTSTART:20251026T010000
END:STANDARD
END:VTIMEZONE
BEGIN:VEVENT
DTSTART;VALUE=DATE:20250408
DTEND;VALUE=DATE:20250409
DTSTAMP:20260425T111312
CREATED:20250328T091844Z
LAST-MODIFIED:20250328T091844Z
UID:43285-1744070400-1744156799@ordineavvocatifoggia.it
SUMMARY:Udienza penale dell'8/04/2025 Giudice di Pace di Foggia dott.ssa Lovaglio
DESCRIPTION:Lo statino è allegato. \n\n        \n            Allegati\n        statino udienza 08.04.25 G. Lovaglio (300 kB)
URL:https://ordineavvocatifoggia.it/event/udienza-penale-dell8-04-2025-giudice-di-pace-di-foggia-dott-ssa-lovaglio/
CATEGORIES:Udienze
END:VEVENT
BEGIN:VEVENT
DTSTART;VALUE=DATE:20250408
DTEND;VALUE=DATE:20250409
DTSTAMP:20260425T111312
CREATED:20250405T085711Z
LAST-MODIFIED:20250405T085711Z
UID:43350-1744070400-1744156799@ordineavvocatifoggia.it
SUMMARY:Udienza dell'8/04/2025 Giudice di Pace di Lucera dott. Di Lella
DESCRIPTION:Il ruolo di udienza è disponibile in allegato. \n\n        \n            Allegati\n        statino udienza 08.04.25 G. Lovaglio (300 kB)
URL:https://ordineavvocatifoggia.it/event/udienza-dell8-04-2025-giudice-di-pace-di-lucera-dott-di-lella/
CATEGORIES:Udienze
END:VEVENT
BEGIN:VEVENT
DTSTART;VALUE=DATE:20250408
DTEND;VALUE=DATE:20250409
DTSTAMP:20260425T111312
CREATED:20250405T085813Z
LAST-MODIFIED:20250405T085813Z
UID:43353-1744070400-1744156799@ordineavvocatifoggia.it
SUMMARY:Udienza dell'8/04/2025 Tribunale di Sorveglianza di Bari
DESCRIPTION:Il provvedimento è allegato. \n\n        \n            Allegati\n        statino udienza 08.04.25 G. Lovaglio (300 kB)
URL:https://ordineavvocatifoggia.it/event/udienza-dell8-04-2025-tribunale-di-sorveglianza-di-bari/
CATEGORIES:Udienze
END:VEVENT
BEGIN:VEVENT
DTSTART;VALUE=DATE:20250408
DTEND;VALUE=DATE:20250409
DTSTAMP:20260425T111312
CREATED:20250405T085915Z
LAST-MODIFIED:20250405T085915Z
UID:43356-1744070400-1744156799@ordineavvocatifoggia.it
SUMMARY:Udienza dibattimentale dell'8/04/2025 Tribunale per i Minorenni di Bari dott.ssa Calvanese
DESCRIPTION:Il provvedimento è allegato. \n\n        \n            Allegati\n        statino udienza 08.04.25 G. Lovaglio (300 kB)
URL:https://ordineavvocatifoggia.it/event/udienza-dibattimentale-dell8-04-2025-tribunale-per-i-minorenni-di-bari-dott-ssa-calvanese/
CATEGORIES:Udienze
END:VEVENT
END:VCALENDAR