BEGIN:VCALENDAR
VERSION:2.0
PRODID:-//Ordine degli Avvocati di Foggia - ECPv4.9.10//NONSGML v1.0//EN
CALSCALE:GREGORIAN
METHOD:PUBLISH
X-WR-CALNAME:Ordine degli Avvocati di Foggia
X-ORIGINAL-URL:https://ordineavvocatifoggia.it
X-WR-CALDESC:Eventi per Ordine degli Avvocati di Foggia
BEGIN:VTIMEZONE
TZID:Europe/Rome
BEGIN:DAYLIGHT
TZOFFSETFROM:+0100
TZOFFSETTO:+0200
TZNAME:CEST
DTSTART:20250330T010000
END:DAYLIGHT
BEGIN:STANDARD
TZOFFSETFROM:+0200
TZOFFSETTO:+0100
TZNAME:CET
DTSTART:20251026T010000
END:STANDARD
END:VTIMEZONE
BEGIN:VEVENT
DTSTART;VALUE=DATE:20250220
DTEND;VALUE=DATE:20250221
DTSTAMP:20260425T141127
CREATED:20250210T090829Z
LAST-MODIFIED:20250210T090829Z
UID:42938-1740009600-1740095999@ordineavvocatifoggia.it
SUMMARY:Udienza dibattimentale del 20/02/2025 Tribunale per i Minorenni di Bari dott.ssa Alessio
DESCRIPTION:Il provvedimento è allegato. \n\n        \n            Allegati\n        2025.02.20 Udienza Tribunale Minorenni Bari (10 kB)
URL:https://ordineavvocatifoggia.it/event/udienza-dibattimentale-del-20-02-2025-tribunale-per-i-minorenni-di-bari-dott-ssa-alessio/
CATEGORIES:Udienze
END:VEVENT
BEGIN:VEVENT
DTSTART;VALUE=DATE:20250220
DTEND;VALUE=DATE:20250221
DTSTAMP:20260425T141127
CREATED:20250214T103730Z
LAST-MODIFIED:20250214T103730Z
UID:42981-1740009600-1740095999@ordineavvocatifoggia.it
SUMMARY:Udienza penale del 20/02/2025 Giudice di Pace di Manfredonia Avv. Lufino
DESCRIPTION:Lo statino è allegato. \n\n        \n            Allegati\n        2025.02.20 Udienza Tribunale Minorenni Bari (10 kB)
URL:https://ordineavvocatifoggia.it/event/udienza-penale-del-20-02-2025-giudice-di-pace-di-manfredonia-avv-lufino/
CATEGORIES:Udienze
END:VEVENT
BEGIN:VEVENT
DTSTART;VALUE=DATE:20250220
DTEND;VALUE=DATE:20250221
DTSTAMP:20260425T141127
CREATED:20250219T121806Z
LAST-MODIFIED:20250219T121806Z
UID:43008-1740009600-1740095999@ordineavvocatifoggia.it
SUMMARY:Udienza penale del 20/02/2025 Giudice di Pace di Manfredonia Avv. Lufino
DESCRIPTION:Lo statino è allegato. \n\n        \n            Allegati\n        2025.02.20 Udienza Tribunale Minorenni Bari (10 kB)
URL:https://ordineavvocatifoggia.it/event/udienza-penale-del-20-02-2025-giudice-di-pace-di-manfredonia-avv-lufino-2/
CATEGORIES:Udienze
END:VEVENT
BEGIN:VEVENT
DTSTART;VALUE=DATE:20250220
DTEND;VALUE=DATE:20250221
DTSTAMP:20260425T141127
CREATED:20250219T121859Z
LAST-MODIFIED:20250219T121859Z
UID:43011-1740009600-1740095999@ordineavvocatifoggia.it
SUMMARY:Udienza dibattimentale del 20/02/2025 Tribunale per i Minorenni di Bari dott.ssa Alessio
DESCRIPTION:Il provvedimento è allegato. \n\n        \n            Allegati\n        2025.02.20 Udienza Tribunale Minorenni Bari (10 kB)
URL:https://ordineavvocatifoggia.it/event/udienza-dibattimentale-del-20-02-2025-tribunale-per-i-minorenni-di-bari-dott-ssa-alessio-2/
CATEGORIES:Udienze
END:VEVENT
BEGIN:VEVENT
DTSTART;VALUE=DATE:20250220
DTEND;VALUE=DATE:20250221
DTSTAMP:20260425T141127
CREATED:20250219T121957Z
LAST-MODIFIED:20250219T121957Z
UID:43014-1740009600-1740095999@ordineavvocatifoggia.it
SUMMARY:Udienza del 20/02/2025 Tribunale di Sorveglianza di Bari
DESCRIPTION:Il provvedimento è allegato. \n\n        \n            Allegati\n        2025.02.20 Udienza Tribunale Minorenni Bari (10 kB)
URL:https://ordineavvocatifoggia.it/event/udienza-del-20-02-2025-tribunale-di-sorveglianza-di-bari/
CATEGORIES:Udienze
END:VEVENT
END:VCALENDAR