BEGIN:VCALENDAR
VERSION:2.0
PRODID:-//Ordine degli Avvocati di Foggia - ECPv4.9.10//NONSGML v1.0//EN
CALSCALE:GREGORIAN
METHOD:PUBLISH
X-WR-CALNAME:Ordine degli Avvocati di Foggia
X-ORIGINAL-URL:https://ordineavvocatifoggia.it
X-WR-CALDESC:Eventi per Ordine degli Avvocati di Foggia
BEGIN:VTIMEZONE
TZID:Europe/Rome
BEGIN:DAYLIGHT
TZOFFSETFROM:+0100
TZOFFSETTO:+0200
TZNAME:CEST
DTSTART:20250330T010000
END:DAYLIGHT
BEGIN:STANDARD
TZOFFSETFROM:+0200
TZOFFSETTO:+0100
TZNAME:CET
DTSTART:20251026T010000
END:STANDARD
END:VTIMEZONE
BEGIN:VEVENT
DTSTART;VALUE=DATE:20250128
DTEND;VALUE=DATE:20250129
DTSTAMP:20260425T141125
CREATED:20250111T122755Z
LAST-MODIFIED:20250111T122755Z
UID:42635-1738022400-1738108799@ordineavvocatifoggia.it
SUMMARY:Udienza penale del 28/01/2025 Giudice di Pace di San Giovanni Rotondo dott.ssa Bonuomo
DESCRIPTION:Il provvedimento è allegato. \n\n        \n            Allegati\n        PENALE ORDINE UDIENZA DEL 28-1-2025 (54 kB)
URL:https://ordineavvocatifoggia.it/event/udienza-penale-del-28-01-2025-giudice-di-pace-di-san-giovanni-rotondo-dott-ssa-bonuomo/
CATEGORIES:Udienze
END:VEVENT
BEGIN:VEVENT
DTSTART;VALUE=DATE:20250128
DTEND;VALUE=DATE:20250129
DTSTAMP:20260425T141125
CREATED:20250114T090902Z
LAST-MODIFIED:20250114T090902Z
UID:42656-1738022400-1738108799@ordineavvocatifoggia.it
SUMMARY:Udienza del 28/01/2025 Tribunale di Foggia dott. Mercuri
DESCRIPTION:Il provvedimento è allegato. \n\n        \n            Allegati\n        PENALE ORDINE UDIENZA DEL 28-1-2025 (54 kB)
URL:https://ordineavvocatifoggia.it/event/udienza-del-28-01-2025-tribunale-di-foggia-dott-mercuri/
CATEGORIES:Udienze
END:VEVENT
BEGIN:VEVENT
DTSTART;VALUE=DATE:20250128
DTEND;VALUE=DATE:20250129
DTSTAMP:20260425T141125
CREATED:20250125T181607Z
LAST-MODIFIED:20250125T181607Z
UID:42730-1738022400-1738108799@ordineavvocatifoggia.it
SUMMARY:Udienza del 28/01/2025 Giudice di Pace di Lucera dott. Di Lella
DESCRIPTION:Il ruolo di udienza è disponibile in allegato. \n\n        \n            Allegati\n        PENALE ORDINE UDIENZA DEL 28-1-2025 (54 kB)
URL:https://ordineavvocatifoggia.it/event/udienza-del-28-01-2025-giudice-di-pace-di-lucera-dott-di-lella/
CATEGORIES:Udienze
END:VEVENT
BEGIN:VEVENT
DTSTART;VALUE=DATE:20250128
DTEND;VALUE=DATE:20250129
DTSTAMP:20260425T141125
CREATED:20250125T181720Z
LAST-MODIFIED:20250125T181720Z
UID:42733-1738022400-1738108799@ordineavvocatifoggia.it
SUMMARY:Udienza penale del 28/01/2025 Giudice di Pace di Rodi Garganico Avv. Brunetti
DESCRIPTION:Il provvedimento è allegato. \n\n        \n            Allegati\n        PENALE ORDINE UDIENZA DEL 28-1-2025 (54 kB)
URL:https://ordineavvocatifoggia.it/event/udienza-penale-del-28-01-2025-giudice-di-pace-di-rodi-garganico-avv-brunetti/
CATEGORIES:Udienze
END:VEVENT
BEGIN:VEVENT
DTSTART;VALUE=DATE:20250128
DTEND;VALUE=DATE:20250129
DTSTAMP:20260425T141125
CREATED:20250125T181822Z
LAST-MODIFIED:20250125T181822Z
UID:42736-1738022400-1738108799@ordineavvocatifoggia.it
SUMMARY:Udienza del 28/01/2025 Tribunale di Sorveglianza di Bari
DESCRIPTION:Il provvedimento è allegato. \n\n        \n            Allegati\n        PENALE ORDINE UDIENZA DEL 28-1-2025 (54 kB)
URL:https://ordineavvocatifoggia.it/event/udienza-del-28-01-2025-tribunale-di-sorveglianza-di-bari/
CATEGORIES:Udienze
END:VEVENT
END:VCALENDAR