BEGIN:VCALENDAR
VERSION:2.0
PRODID:-//Ordine degli Avvocati di Foggia - ECPv4.9.10//NONSGML v1.0//EN
CALSCALE:GREGORIAN
METHOD:PUBLISH
X-WR-CALNAME:Ordine degli Avvocati di Foggia
X-ORIGINAL-URL:https://ordineavvocatifoggia.it
X-WR-CALDESC:Eventi per Ordine degli Avvocati di Foggia
BEGIN:VTIMEZONE
TZID:Europe/Rome
BEGIN:DAYLIGHT
TZOFFSETFROM:+0100
TZOFFSETTO:+0200
TZNAME:CEST
DTSTART:20240331T010000
END:DAYLIGHT
BEGIN:STANDARD
TZOFFSETFROM:+0200
TZOFFSETTO:+0100
TZNAME:CET
DTSTART:20241027T010000
END:STANDARD
END:VTIMEZONE
BEGIN:VEVENT
DTSTART;VALUE=DATE:20241218
DTEND;VALUE=DATE:20241219
DTSTAMP:20260425T172357
CREATED:20241115T124800Z
LAST-MODIFIED:20241115T124800Z
UID:42301-1734480000-1734566399@ordineavvocatifoggia.it
SUMMARY:Udienza del 18/12/2024 Corte di Appello di Bari Terza Sez. Civ.
DESCRIPTION:Il provvedimento è allegato. \n
URL:https://ordineavvocatifoggia.it/event/udienza-del-18-12-2024-corte-di-appello-di-bari-terza-sez-civ/
CATEGORIES:Udienze
END:VEVENT
BEGIN:VEVENT
DTSTART;VALUE=DATE:20241218
DTEND;VALUE=DATE:20241219
DTSTAMP:20260425T172357
CREATED:20241212T124838Z
LAST-MODIFIED:20241212T124838Z
UID:42507-1734480000-1734566399@ordineavvocatifoggia.it
SUMMARY:Udienza del 18/12/2024 Giudice di Pace di Foggia dott.ssa Rocco
DESCRIPTION:Il ruolo di udienza è disponibile in allegato. \n
URL:https://ordineavvocatifoggia.it/event/udienza-del-18-12-2024-giudice-di-pace-di-foggia-dott-ssa-rocco/
CATEGORIES:Udienze
END:VEVENT
END:VCALENDAR