BEGIN:VCALENDAR
VERSION:2.0
PRODID:-//Ordine degli Avvocati di Foggia - ECPv4.9.10//NONSGML v1.0//EN
CALSCALE:GREGORIAN
METHOD:PUBLISH
X-WR-CALNAME:Ordine degli Avvocati di Foggia
X-ORIGINAL-URL:https://ordineavvocatifoggia.it
X-WR-CALDESC:Eventi per Ordine degli Avvocati di Foggia
BEGIN:VTIMEZONE
TZID:Europe/Rome
BEGIN:DAYLIGHT
TZOFFSETFROM:+0100
TZOFFSETTO:+0200
TZNAME:CEST
DTSTART:20240331T010000
END:DAYLIGHT
BEGIN:STANDARD
TZOFFSETFROM:+0200
TZOFFSETTO:+0100
TZNAME:CET
DTSTART:20241027T010000
END:STANDARD
END:VTIMEZONE
BEGIN:VEVENT
DTSTART;VALUE=DATE:20241210
DTEND;VALUE=DATE:20241211
DTSTAMP:20260425T172358
CREATED:20241127T133357Z
LAST-MODIFIED:20241127T133357Z
UID:42370-1733788800-1733875199@ordineavvocatifoggia.it
SUMMARY:Udienza penale del 10/12/2024 Giudice di Pace di Foggia dott.ssa Lovaglio
DESCRIPTION:Lo statino è allegato. \n\n        \n            Allegati\n        udienza 10.12.2024 Lovaglio (164 kB)
URL:https://ordineavvocatifoggia.it/event/udienza-penale-del-10-12-2024-giudice-di-pace-di-foggia-dott-ssa-lovaglio/
CATEGORIES:Udienze
END:VEVENT
BEGIN:VEVENT
DTSTART;VALUE=DATE:20241210
DTEND;VALUE=DATE:20241211
DTSTAMP:20260425T172358
CREATED:20241207T112847Z
LAST-MODIFIED:20241207T112847Z
UID:42461-1733788800-1733875199@ordineavvocatifoggia.it
SUMMARY:Udienza penale del 10/12/2024 Giudice di Pace di Rodi Garganico Avv. Brunetti
DESCRIPTION:Il provvedimento è allegato. \n\n        \n            Allegati\n        udienza 10.12.2024 Lovaglio (164 kB)
URL:https://ordineavvocatifoggia.it/event/udienza-penale-del-10-12-2024-giudice-di-pace-di-rodi-garganico-avv-brunetti/
CATEGORIES:Udienze
END:VEVENT
BEGIN:VEVENT
DTSTART;VALUE=DATE:20241210
DTEND;VALUE=DATE:20241211
DTSTAMP:20260425T172358
CREATED:20241207T113009Z
LAST-MODIFIED:20241207T113009Z
UID:42464-1733788800-1733875199@ordineavvocatifoggia.it
SUMMARY:Udienza dibattimentale del 10/12/2024 Tribunale per i Minorenni di Bari dott.ssa Calvanese
DESCRIPTION:Il provvedimento è allegato. \n\n        \n            Allegati\n        udienza 10.12.2024 Lovaglio (164 kB)
URL:https://ordineavvocatifoggia.it/event/udienza-dibattimentale-del-10-12-2024-tribunale-per-i-minorenni-di-bari-dott-ssa-calvanese/
CATEGORIES:Udienze
END:VEVENT
BEGIN:VEVENT
DTSTART;VALUE=DATE:20241210
DTEND;VALUE=DATE:20241211
DTSTAMP:20260425T172358
CREATED:20241207T113107Z
LAST-MODIFIED:20241207T113107Z
UID:42467-1733788800-1733875199@ordineavvocatifoggia.it
SUMMARY:Udienza del 10/12/2024 Tribunale di Sorveglianza di Bari
DESCRIPTION:Il provvedimento è allegato. \n\n        \n            Allegati\n        udienza 10.12.2024 Lovaglio (164 kB)
URL:https://ordineavvocatifoggia.it/event/udienza-del-10-12-2024-tribunale-di-sorveglianza-di-bari/
CATEGORIES:Udienze
END:VEVENT
BEGIN:VEVENT
DTSTART;VALUE=DATE:20241210
DTEND;VALUE=DATE:20241211
DTSTAMP:20260425T172358
CREATED:20241207T113206Z
LAST-MODIFIED:20241207T113206Z
UID:42470-1733788800-1733875199@ordineavvocatifoggia.it
SUMMARY:Udienza del 10/12/2024 Giudice di Pace di Lucera dott. Di Lella
DESCRIPTION:Il ruolo di udienza è disponibile in allegato. \n\n        \n            Allegati\n        udienza 10.12.2024 Lovaglio (164 kB)
URL:https://ordineavvocatifoggia.it/event/udienza-del-10-12-2024-giudice-di-pace-di-lucera-dott-di-lella/
CATEGORIES:Udienze
END:VEVENT
END:VCALENDAR