BEGIN:VCALENDAR
VERSION:2.0
PRODID:-//Ordine degli Avvocati di Foggia - ECPv4.9.10//NONSGML v1.0//EN
CALSCALE:GREGORIAN
METHOD:PUBLISH
X-WR-CALNAME:Ordine degli Avvocati di Foggia
X-ORIGINAL-URL:https://ordineavvocatifoggia.it
X-WR-CALDESC:Eventi per Ordine degli Avvocati di Foggia
BEGIN:VTIMEZONE
TZID:Europe/Rome
BEGIN:DAYLIGHT
TZOFFSETFROM:+0100
TZOFFSETTO:+0200
TZNAME:CEST
DTSTART:20240331T010000
END:DAYLIGHT
BEGIN:STANDARD
TZOFFSETFROM:+0200
TZOFFSETTO:+0100
TZNAME:CET
DTSTART:20241027T010000
END:STANDARD
END:VTIMEZONE
BEGIN:VEVENT
DTSTART;VALUE=DATE:20241126
DTEND;VALUE=DATE:20241127
DTSTAMP:20260425T172404
CREATED:20241104T100033Z
LAST-MODIFIED:20241104T100033Z
UID:42195-1732579200-1732665599@ordineavvocatifoggia.it
SUMMARY:Udienza penale del 26/11/2024 Giudice di Pace di San Giovanni Rotondo dott.ssa Bonuomo
DESCRIPTION:Il provvedimento è allegato. \n\n        \n            Allegati\n        PENALE ORDINE UDIENZA DEL 26-11-2024 (18 kB)
URL:https://ordineavvocatifoggia.it/event/udienza-penale-del-26-11-2024-giudice-di-pace-di-san-giovanni-rotondo-dott-ssa-bonuomo/
CATEGORIES:Udienze
END:VEVENT
BEGIN:VEVENT
DTSTART;VALUE=DATE:20241126
DTEND;VALUE=DATE:20241127
DTSTAMP:20260425T172404
CREATED:20241118T093652Z
LAST-MODIFIED:20241118T093652Z
UID:42306-1732579200-1732665599@ordineavvocatifoggia.it
SUMMARY:Udienza del 26/11/2024 Tribunale di Foggia dott. Mercuri
DESCRIPTION:Il provvedimento è allegato. \n\n        \n            Allegati\n        PENALE ORDINE UDIENZA DEL 26-11-2024 (18 kB)
URL:https://ordineavvocatifoggia.it/event/udienza-del-26-11-2024-tribunale-di-foggia-dott-mercuri/
CATEGORIES:Udienze
END:VEVENT
BEGIN:VEVENT
DTSTART;VALUE=DATE:20241126
DTEND;VALUE=DATE:20241127
DTSTAMP:20260425T172404
CREATED:20241124T090216Z
LAST-MODIFIED:20241124T090216Z
UID:42337-1732579200-1732665599@ordineavvocatifoggia.it
SUMMARY:Udienza del 26/11/2024 Giudice di Pace di Lucera dott. Di Lella
DESCRIPTION:Il ruolo di udienza è disponibile in allegato. \n\n        \n            Allegati\n        PENALE ORDINE UDIENZA DEL 26-11-2024 (18 kB)
URL:https://ordineavvocatifoggia.it/event/udienza-del-26-11-2024-giudice-di-pace-di-lucera-dott-di-lella/
CATEGORIES:Udienze
END:VEVENT
BEGIN:VEVENT
DTSTART;VALUE=DATE:20241126
DTEND;VALUE=DATE:20241127
DTSTAMP:20260425T172404
CREATED:20241124T090341Z
LAST-MODIFIED:20241124T090341Z
UID:42340-1732579200-1732665599@ordineavvocatifoggia.it
SUMMARY:Udienza penale del 26/11/2024 Giudice di Pace di Rodi Garganico Avv. Brunetti
DESCRIPTION:Il provvedimento è allegato. \n\n        \n            Allegati\n        PENALE ORDINE UDIENZA DEL 26-11-2024 (18 kB)
URL:https://ordineavvocatifoggia.it/event/udienza-penale-del-26-11-2024-giudice-di-pace-di-rodi-garganico-avv-brunetti/
CATEGORIES:Udienze
END:VEVENT
BEGIN:VEVENT
DTSTART;VALUE=DATE:20241126
DTEND;VALUE=DATE:20241127
DTSTAMP:20260425T172404
CREATED:20241124T090508Z
LAST-MODIFIED:20241124T090508Z
UID:42343-1732579200-1732665599@ordineavvocatifoggia.it
SUMMARY:Udienza del 26/11/2024 Tribunale di Sorveglianza di Bari
DESCRIPTION:Il provvedimento è allegato. \n\n        \n            Allegati\n        PENALE ORDINE UDIENZA DEL 26-11-2024 (18 kB)
URL:https://ordineavvocatifoggia.it/event/udienza-del-26-11-2024-tribunale-di-sorveglianza-di-bari/
CATEGORIES:Udienze
END:VEVENT
BEGIN:VEVENT
DTSTART;VALUE=DATE:20241126
DTEND;VALUE=DATE:20241127
DTSTAMP:20260425T172404
CREATED:20241124T090621Z
LAST-MODIFIED:20241124T090621Z
UID:42346-1732579200-1732665599@ordineavvocatifoggia.it
SUMMARY:Udienza penale del 26/11/2024 Giudice di Pace di Foggia dott.ssa Lovaglio
DESCRIPTION:Lo statino è allegato. \n\n        \n            Allegati\n        PENALE ORDINE UDIENZA DEL 26-11-2024 (18 kB)
URL:https://ordineavvocatifoggia.it/event/udienza-penale-del-26-11-2024-giudice-di-pace-di-foggia-dott-ssa-lovaglio/
CATEGORIES:Udienze
END:VEVENT
END:VCALENDAR