BEGIN:VCALENDAR
VERSION:2.0
PRODID:-//Ordine degli Avvocati di Foggia - ECPv4.9.10//NONSGML v1.0//EN
CALSCALE:GREGORIAN
METHOD:PUBLISH
X-WR-CALNAME:Ordine degli Avvocati di Foggia
X-ORIGINAL-URL:https://ordineavvocatifoggia.it
X-WR-CALDESC:Eventi per Ordine degli Avvocati di Foggia
BEGIN:VTIMEZONE
TZID:Europe/Rome
BEGIN:DAYLIGHT
TZOFFSETFROM:+0100
TZOFFSETTO:+0200
TZNAME:CEST
DTSTART:20240331T010000
END:DAYLIGHT
BEGIN:STANDARD
TZOFFSETFROM:+0200
TZOFFSETTO:+0100
TZNAME:CET
DTSTART:20241027T010000
END:STANDARD
END:VTIMEZONE
BEGIN:VEVENT
DTSTART;VALUE=DATE:20241121
DTEND;VALUE=DATE:20241122
DTSTAMP:20260425T183551
CREATED:20240706T100733Z
LAST-MODIFIED:20240706T100733Z
UID:41569-1732147200-1732233599@ordineavvocatifoggia.it
SUMMARY:Rinvio udienza penale del 21/11/2024 Giudice di Pace di Lucera Avv. Lufino
DESCRIPTION:L’udienza è rinviata d’ufficio al giorno 5/12/2024 come da provvedimento allegato. \n\n        \n            Allegati\n        Rinvii Dott.ssa Lufino (192 kB)
URL:https://ordineavvocatifoggia.it/event/rinvio-udienza-penale-del-21-11-2024-giudice-di-pace-di-lucera-avv-lufino/
CATEGORIES:Rinivii udienze
END:VEVENT
BEGIN:VEVENT
DTSTART;VALUE=DATE:20241121
DTEND;VALUE=DATE:20241122
DTSTAMP:20260425T183551
CREATED:20241111T093227Z
LAST-MODIFIED:20241111T093227Z
UID:42245-1732147200-1732233599@ordineavvocatifoggia.it
SUMMARY:Udienza del 21/11/2024 Tribunale di Foggia dott. Mercuri
DESCRIPTION:Il provvedimento è allegato. \n\n        \n            Allegati\n        Rinvii Dott.ssa Lufino (192 kB)
URL:https://ordineavvocatifoggia.it/event/udienza-del-21-11-2024-tribunale-di-foggia-dott-mercuri/
CATEGORIES:Udienze
END:VEVENT
BEGIN:VEVENT
DTSTART;VALUE=DATE:20241121
DTEND;VALUE=DATE:20241122
DTSTAMP:20260425T183551
CREATED:20241114T101610Z
LAST-MODIFIED:20241114T101610Z
UID:42283-1732147200-1732233599@ordineavvocatifoggia.it
SUMMARY:Udienza penale del 21/11/2024 Giudice di Pace di Manfredonia Avv. Lufino
DESCRIPTION:Lo statino è allegato. \n\n        \n            Allegati\n        Rinvii Dott.ssa Lufino (192 kB)
URL:https://ordineavvocatifoggia.it/event/udienza-penale-del-21-11-2024-giudice-di-pace-di-manfredonia-avv-lufino/
CATEGORIES:Udienze
END:VEVENT
BEGIN:VEVENT
DTSTART;VALUE=DATE:20241121
DTEND;VALUE=DATE:20241122
DTSTAMP:20260425T183551
CREATED:20241115T120553Z
LAST-MODIFIED:20241115T120553Z
UID:42292-1732147200-1732233599@ordineavvocatifoggia.it
SUMMARY:Udienza penale del 21/11/2024 Giudice di Pace di Manfredonia Avv. Lufino
DESCRIPTION:Lo statino è allegato. \n\n        \n            Allegati\n        Rinvii Dott.ssa Lufino (192 kB)
URL:https://ordineavvocatifoggia.it/event/udienza-penale-del-21-11-2024-giudice-di-pace-di-manfredonia-avv-lufino-2/
CATEGORIES:Udienze
END:VEVENT
BEGIN:VEVENT
DTSTART;VALUE=DATE:20241121
DTEND;VALUE=DATE:20241122
DTSTAMP:20260425T183551
CREATED:20241118T101612Z
LAST-MODIFIED:20241118T101612Z
UID:42312-1732147200-1732233599@ordineavvocatifoggia.it
SUMMARY:Udienza dibattimentale del 21/11/2024 Tribunale per i Minorenni di Bari dott.ssa Alessio
DESCRIPTION:Il provvedimento è allegato. \n\n        \n            Allegati\n        Rinvii Dott.ssa Lufino (192 kB)
URL:https://ordineavvocatifoggia.it/event/udienza-dibattimentale-del-21-11-2024-tribunale-per-i-minorenni-di-bari-dott-ssa-alessio/
CATEGORIES:Udienze
END:VEVENT
BEGIN:VEVENT
DTSTART;VALUE=DATE:20241121
DTEND;VALUE=DATE:20241122
DTSTAMP:20260425T183551
CREATED:20241124T085528Z
LAST-MODIFIED:20241124T085528Z
UID:42329-1732147200-1732233599@ordineavvocatifoggia.it
SUMMARY:Udienza del 21/11/2024 Tribunale di Sorveglianza di Bari
DESCRIPTION:Il provvedimento è allegato. \n\n        \n            Allegati\n        Rinvii Dott.ssa Lufino (192 kB)
URL:https://ordineavvocatifoggia.it/event/udienza-del-21-11-2024-tribunale-di-sorveglianza-di-bari/
CATEGORIES:Udienze
END:VEVENT
END:VCALENDAR