BEGIN:VCALENDAR
VERSION:2.0
PRODID:-//Ordine degli Avvocati di Foggia - ECPv4.9.10//NONSGML v1.0//EN
CALSCALE:GREGORIAN
METHOD:PUBLISH
X-WR-CALNAME:Ordine degli Avvocati di Foggia
X-ORIGINAL-URL:https://ordineavvocatifoggia.it
X-WR-CALDESC:Eventi per Ordine degli Avvocati di Foggia
BEGIN:VTIMEZONE
TZID:Europe/Rome
BEGIN:DAYLIGHT
TZOFFSETFROM:+0100
TZOFFSETTO:+0200
TZNAME:CEST
DTSTART:20240331T010000
END:DAYLIGHT
BEGIN:STANDARD
TZOFFSETFROM:+0200
TZOFFSETTO:+0100
TZNAME:CET
DTSTART:20241027T010000
END:STANDARD
END:VTIMEZONE
BEGIN:VEVENT
DTSTART;VALUE=DATE:20241107
DTEND;VALUE=DATE:20241108
DTSTAMP:20260425T183557
CREATED:20241030T154920Z
LAST-MODIFIED:20241030T154920Z
UID:42179-1730937600-1731023999@ordineavvocatifoggia.it
SUMMARY:Udienza del 7/11/2024 Tribunale di Foggia dott. Mercuri
DESCRIPTION:Il provvedimento è allegato. \n\n        \n            Allegati\n        2024.11.07 udienza mercuri (206 kB)
URL:https://ordineavvocatifoggia.it/event/udienza-del-7-11-2024-tribunale-di-foggia-dott-mercuri/
CATEGORIES:Udienze
END:VEVENT
BEGIN:VEVENT
DTSTART;VALUE=DATE:20241107
DTEND;VALUE=DATE:20241108
DTSTAMP:20260425T183557
CREATED:20241031T113858Z
LAST-MODIFIED:20241031T113858Z
UID:42182-1730937600-1731023999@ordineavvocatifoggia.it
SUMMARY:Udienza del 7/11/2024 Giudice di Pace di Lucera Avv. Lufino
DESCRIPTION:Il ruolo di udienza è disponibile in allegato. \n\n        \n            Allegati\n        2024.11.07 udienza mercuri (206 kB)
URL:https://ordineavvocatifoggia.it/event/udienza-del-7-11-2024-giudice-di-pace-di-lucera-avv-lufino/
CATEGORIES:Udienze
END:VEVENT
BEGIN:VEVENT
DTSTART;VALUE=DATE:20241107
DTEND;VALUE=DATE:20241108
DTSTAMP:20260425T183557
CREATED:20241031T114025Z
LAST-MODIFIED:20241031T114025Z
UID:42185-1730937600-1731023999@ordineavvocatifoggia.it
SUMMARY:Udienza dibattimentale del 7/11/2024 Tribunale per i Minorenni di Bari dott.ssa Alessio
DESCRIPTION:Il provvedimento è allegato. \n\n        \n            Allegati\n        2024.11.07 udienza mercuri (206 kB)
URL:https://ordineavvocatifoggia.it/event/udienza-dibattimentale-del-7-11-2024-tribunale-per-i-minorenni-di-bari-dott-ssa-alessio/
CATEGORIES:Udienze
END:VEVENT
BEGIN:VEVENT
DTSTART;VALUE=DATE:20241107
DTEND;VALUE=DATE:20241108
DTSTAMP:20260425T183557
CREATED:20241105T123108Z
LAST-MODIFIED:20241105T123108Z
UID:42202-1730937600-1731023999@ordineavvocatifoggia.it
SUMMARY:Udienza del 7/11/2024 Tribunale di Sorveglianza di Bari
DESCRIPTION:Il provvedimento è allegato. \n\n        \n            Allegati\n        2024.11.07 udienza mercuri (206 kB)
URL:https://ordineavvocatifoggia.it/event/udienza-del-7-11-2024-tribunale-di-sorveglianza-di-bari/
CATEGORIES:Udienze
END:VEVENT
END:VCALENDAR