BEGIN:VCALENDAR
VERSION:2.0
PRODID:-//Ordine degli Avvocati di Foggia - ECPv4.9.10//NONSGML v1.0//EN
CALSCALE:GREGORIAN
METHOD:PUBLISH
X-WR-CALNAME:Ordine degli Avvocati di Foggia
X-ORIGINAL-URL:https://ordineavvocatifoggia.it
X-WR-CALDESC:Eventi per Ordine degli Avvocati di Foggia
BEGIN:VTIMEZONE
TZID:Europe/Rome
BEGIN:DAYLIGHT
TZOFFSETFROM:+0100
TZOFFSETTO:+0200
TZNAME:CEST
DTSTART:20240331T010000
END:DAYLIGHT
BEGIN:STANDARD
TZOFFSETFROM:+0200
TZOFFSETTO:+0100
TZNAME:CET
DTSTART:20241027T010000
END:STANDARD
END:VTIMEZONE
BEGIN:VEVENT
DTSTART;VALUE=DATE:20241106
DTEND;VALUE=DATE:20241107
DTSTAMP:20260425T183541
CREATED:20241007T115844Z
LAST-MODIFIED:20241007T115844Z
UID:42024-1730851200-1730937599@ordineavvocatifoggia.it
SUMMARY:Udienza del 6/11/2024 Corte di Appello di Bari Terza Sez. Civ.
DESCRIPTION:Il provvedimento è allegato. \n\n        \n            Allegati\n        decreto presidenziale 6-11-2024 (140 kB)
URL:https://ordineavvocatifoggia.it/event/udienza-del-6-11-2024-corte-di-appello-di-bari-terza-sez-civ/
CATEGORIES:Udienze
END:VEVENT
BEGIN:VEVENT
DTSTART;VALUE=DATE:20241106
DTEND;VALUE=DATE:20241107
DTSTAMP:20260425T183541
CREATED:20241105T121737Z
LAST-MODIFIED:20241105T121737Z
UID:42199-1730851200-1730937599@ordineavvocatifoggia.it
SUMMARY:Udienza del 6/11/2024 Ufficio di Sorveglianza di Bari
DESCRIPTION:Il provvedimento è allegato. \n\n        \n            Allegati\n        decreto presidenziale 6-11-2024 (140 kB)
URL:https://ordineavvocatifoggia.it/event/udienza-del-6-11-2024-ufficio-di-sorveglianza-di-bari/
CATEGORIES:Udienze
END:VEVENT
END:VCALENDAR