BEGIN:VCALENDAR
VERSION:2.0
PRODID:-//Ordine degli Avvocati di Foggia - ECPv4.9.10//NONSGML v1.0//EN
CALSCALE:GREGORIAN
METHOD:PUBLISH
X-WR-CALNAME:Ordine degli Avvocati di Foggia
X-ORIGINAL-URL:https://ordineavvocatifoggia.it
X-WR-CALDESC:Eventi per Ordine degli Avvocati di Foggia
BEGIN:VTIMEZONE
TZID:Europe/Rome
BEGIN:DAYLIGHT
TZOFFSETFROM:+0100
TZOFFSETTO:+0200
TZNAME:CEST
DTSTART:20240331T010000
END:DAYLIGHT
BEGIN:STANDARD
TZOFFSETFROM:+0200
TZOFFSETTO:+0100
TZNAME:CET
DTSTART:20241027T010000
END:STANDARD
END:VTIMEZONE
BEGIN:VEVENT
DTSTART;VALUE=DATE:20241105
DTEND;VALUE=DATE:20241106
DTSTAMP:20260425T195840
CREATED:20241021T125444Z
LAST-MODIFIED:20241021T125444Z
UID:42117-1730764800-1730851199@ordineavvocatifoggia.it
SUMMARY:Udienza penale del 5/11/2024 Giudice di Pace di Foggia dott.ssa Bonuomo
DESCRIPTION:Il provvedimento è allegato. \n\n        \n            Allegati\n        PENALE ORDINE UDIENZA DEL 5-11-2024 (57 kB)
URL:https://ordineavvocatifoggia.it/event/udienza-penale-del-5-11-2024-giudice-di-pace-di-foggia-dott-ssa-bonuomo/
CATEGORIES:Udienze
END:VEVENT
BEGIN:VEVENT
DTSTART;VALUE=DATE:20241105
DTEND;VALUE=DATE:20241106
DTSTAMP:20260425T195840
CREATED:20241030T154156Z
LAST-MODIFIED:20241030T154156Z
UID:42164-1730764800-1730851199@ordineavvocatifoggia.it
SUMMARY:Udienza del 5/11/2024 Giudice di Pace di Lucera dott. Di Lella
DESCRIPTION:Il ruolo di udienza è disponibile in allegato. \n\n        \n            Allegati\n        PENALE ORDINE UDIENZA DEL 5-11-2024 (57 kB)
URL:https://ordineavvocatifoggia.it/event/udienza-del-5-11-2024-giudice-di-pace-di-lucera-dott-di-lella/
CATEGORIES:Udienze
END:VEVENT
BEGIN:VEVENT
DTSTART;VALUE=DATE:20241105
DTEND;VALUE=DATE:20241106
DTSTAMP:20260425T195840
CREATED:20241030T154310Z
LAST-MODIFIED:20241030T154310Z
UID:42167-1730764800-1730851199@ordineavvocatifoggia.it
SUMMARY:Udienza dibattimentale del 5/11/2024 Tribunale per i Minorenni di Bari dott.ssa Calvanese
DESCRIPTION:Il provvedimento è allegato. \n\n        \n            Allegati\n        PENALE ORDINE UDIENZA DEL 5-11-2024 (57 kB)
URL:https://ordineavvocatifoggia.it/event/udienza-dibattimentale-del-5-11-2024-tribunale-per-i-minorenni-di-bari-dott-ssa-calvanese/
CATEGORIES:Udienze
END:VEVENT
BEGIN:VEVENT
DTSTART;VALUE=DATE:20241105
DTEND;VALUE=DATE:20241106
DTSTAMP:20260425T195840
CREATED:20241030T154438Z
LAST-MODIFIED:20241030T154438Z
UID:42170-1730764800-1730851199@ordineavvocatifoggia.it
SUMMARY:Udienza del 5/11/2024 Tribunale di Sorveglianza di Bari
DESCRIPTION:Il provvedimento è allegato. \n\n        \n            Allegati\n        PENALE ORDINE UDIENZA DEL 5-11-2024 (57 kB)
URL:https://ordineavvocatifoggia.it/event/udienza-del-5-11-2024-tribunale-di-sorveglianza-di-bari/
CATEGORIES:Udienze
END:VEVENT
END:VCALENDAR