BEGIN:VCALENDAR
VERSION:2.0
PRODID:-//Ordine degli Avvocati di Foggia - ECPv4.9.10//NONSGML v1.0//EN
CALSCALE:GREGORIAN
METHOD:PUBLISH
X-WR-CALNAME:Ordine degli Avvocati di Foggia
X-ORIGINAL-URL:https://ordineavvocatifoggia.it
X-WR-CALDESC:Eventi per Ordine degli Avvocati di Foggia
BEGIN:VTIMEZONE
TZID:Europe/Rome
BEGIN:DAYLIGHT
TZOFFSETFROM:+0100
TZOFFSETTO:+0200
TZNAME:CEST
DTSTART:20240331T010000
END:DAYLIGHT
BEGIN:STANDARD
TZOFFSETFROM:+0200
TZOFFSETTO:+0100
TZNAME:CET
DTSTART:20241027T010000
END:STANDARD
END:VTIMEZONE
BEGIN:VEVENT
DTSTART;VALUE=DATE:20241022
DTEND;VALUE=DATE:20241023
DTSTAMP:20260425T195838
CREATED:20240924T120708Z
LAST-MODIFIED:20240924T120708Z
UID:41887-1729555200-1729641599@ordineavvocatifoggia.it
SUMMARY:Udienza del 22/10/2024 Tribunale di Foggia dott. Manzionna
DESCRIPTION:Il provvedimento è allegato. \n\n        \n            Allegati\n        decreto udienza del 22 ottobre fasce orarie dott Manzionna (145 kB)
URL:https://ordineavvocatifoggia.it/event/udienza-del-22-10-2024-tribunale-di-foggia-dott-manzionna/
CATEGORIES:Udienze
END:VEVENT
BEGIN:VEVENT
DTSTART;VALUE=DATE:20241022
DTEND;VALUE=DATE:20241023
DTSTAMP:20260425T195838
CREATED:20240930T124326Z
LAST-MODIFIED:20241021T072735Z
UID:41937-1729555200-1729641599@ordineavvocatifoggia.it
SUMMARY:Udienza penale del 22/10/2024 Giudice di Pace di Foggia dott.ssa Bonuomo
DESCRIPTION:Il provvedimento è allegato. \n\n        \n            Allegati\n        decreto udienza del 22 ottobre fasce orarie dott Manzionna (145 kB)
URL:https://ordineavvocatifoggia.it/event/udienza-penale-del-22-10-2024-giudice-di-pace-di-foggia-dott-ssa-bonuomo/
CATEGORIES:Udienze
END:VEVENT
BEGIN:VEVENT
DTSTART;VALUE=DATE:20241022
DTEND;VALUE=DATE:20241023
DTSTAMP:20260425T195838
CREATED:20241009T101408Z
LAST-MODIFIED:20241009T101408Z
UID:42029-1729555200-1729641599@ordineavvocatifoggia.it
SUMMARY:Udienza penale del 22/10/2024 Giudice di Pace di Foggia dott.ssa Lovaglio
DESCRIPTION:Lo statino è allegato. \n\n        \n            Allegati\n        decreto udienza del 22 ottobre fasce orarie dott Manzionna (145 kB)
URL:https://ordineavvocatifoggia.it/event/udienza-penale-del-22-10-2024-giudice-di-pace-di-foggia-dott-ssa-lovaglio/
CATEGORIES:Udienze
END:VEVENT
BEGIN:VEVENT
DTSTART;VALUE=DATE:20241022
DTEND;VALUE=DATE:20241023
DTSTAMP:20260425T195838
CREATED:20241014T092736Z
LAST-MODIFIED:20241014T092736Z
UID:42077-1729555200-1729641599@ordineavvocatifoggia.it
SUMMARY:Udienza del 22/10/2024 Tribunale di Foggia dott. Mercuri
DESCRIPTION:Il provvedimento è allegato. \n\n        \n            Allegati\n        decreto udienza del 22 ottobre fasce orarie dott Manzionna (145 kB)
URL:https://ordineavvocatifoggia.it/event/udienza-del-22-10-2024-tribunale-di-foggia-dott-mercuri/
CATEGORIES:Udienze
END:VEVENT
BEGIN:VEVENT
DTSTART;VALUE=DATE:20241022
DTEND;VALUE=DATE:20241023
DTSTAMP:20260425T195838
CREATED:20241015T120255Z
LAST-MODIFIED:20241015T120255Z
UID:42089-1729555200-1729641599@ordineavvocatifoggia.it
SUMMARY:Udienza del 22/10/2024 Giudice di Pace di Lucera dott. Di Lella
DESCRIPTION:Il ruolo di udienza è disponibile in allegato. \n\n        \n            Allegati\n        decreto udienza del 22 ottobre fasce orarie dott Manzionna (145 kB)
URL:https://ordineavvocatifoggia.it/event/udienza-del-22-10-2024-giudice-di-pace-di-lucera-dott-di-lella/
CATEGORIES:Udienze
END:VEVENT
BEGIN:VEVENT
DTSTART;VALUE=DATE:20241022
DTEND;VALUE=DATE:20241023
DTSTAMP:20260425T195838
CREATED:20241016T094113Z
LAST-MODIFIED:20241016T094113Z
UID:42092-1729555200-1729641599@ordineavvocatifoggia.it
SUMMARY:Udienza dibattimentale del 22/10/2024 Tribunale per i Minorenni di Bari dott.ssa Calvanese
DESCRIPTION:Il provvedimento è allegato. \n\n        \n            Allegati\n        decreto udienza del 22 ottobre fasce orarie dott Manzionna (145 kB)
URL:https://ordineavvocatifoggia.it/event/udienza-dibattimentale-del-22-10-2024-tribunale-per-i-minorenni-di-bari-dott-ssa-calvanese/
CATEGORIES:Udienze
END:VEVENT
BEGIN:VEVENT
DTSTART;VALUE=DATE:20241022
DTEND;VALUE=DATE:20241023
DTSTAMP:20260425T195838
CREATED:20241017T105132Z
LAST-MODIFIED:20241017T105132Z
UID:42102-1729555200-1729641599@ordineavvocatifoggia.it
SUMMARY:Udienza penale del 22/10/2024 Giudice di Pace di Trinitapoli Avv. Rizzi
DESCRIPTION:Il provvedimento è allegato. \n\n        \n            Allegati\n        decreto udienza del 22 ottobre fasce orarie dott Manzionna (145 kB)
URL:https://ordineavvocatifoggia.it/event/udienza-penale-del-22-10-2024-giudice-di-pace-di-trinitapoli-avv-rizzi/
CATEGORIES:Udienze
END:VEVENT
END:VCALENDAR