BEGIN:VCALENDAR
VERSION:2.0
PRODID:-//Ordine degli Avvocati di Foggia - ECPv4.9.10//NONSGML v1.0//EN
CALSCALE:GREGORIAN
METHOD:PUBLISH
X-WR-CALNAME:Ordine degli Avvocati di Foggia
X-ORIGINAL-URL:https://ordineavvocatifoggia.it
X-WR-CALDESC:Eventi per Ordine degli Avvocati di Foggia
BEGIN:VTIMEZONE
TZID:Europe/Rome
BEGIN:DAYLIGHT
TZOFFSETFROM:+0100
TZOFFSETTO:+0200
TZNAME:CEST
DTSTART:20240331T010000
END:DAYLIGHT
BEGIN:STANDARD
TZOFFSETFROM:+0200
TZOFFSETTO:+0100
TZNAME:CET
DTSTART:20241027T010000
END:STANDARD
END:VTIMEZONE
BEGIN:VEVENT
DTSTART;VALUE=DATE:20241017
DTEND;VALUE=DATE:20241018
DTSTAMP:20260425T212432
CREATED:20240706T100618Z
LAST-MODIFIED:20240706T100618Z
UID:41565-1729123200-1729209599@ordineavvocatifoggia.it
SUMMARY:Rinvio udienza penale del 17/10/2024 Giudice di Pace di Lucera Avv. Lufino
DESCRIPTION:L’udienza è rinviata d’ufficio al giorno 28/11/2024 come da provvedimento allegato. \n\n        \n            Allegati\n        Rinvii Dott.ssa Lufino (192 kB)
URL:https://ordineavvocatifoggia.it/event/rinvio-udienza-penale-del-17-10-2024-giudice-di-pace-di-lucera-avv-lufino/
CATEGORIES:Rinivii udienze
END:VEVENT
BEGIN:VEVENT
DTSTART;VALUE=DATE:20241017
DTEND;VALUE=DATE:20241018
DTSTAMP:20260425T212432
CREATED:20241011T181048Z
LAST-MODIFIED:20241011T181048Z
UID:42043-1729123200-1729209599@ordineavvocatifoggia.it
SUMMARY:Udienza penale del 17/10/2024 Giudice di Pace di Manfredonia Avv. Lufino
DESCRIPTION:Lo statino è allegato. \n\n        \n            Allegati\n        Rinvii Dott.ssa Lufino (192 kB)
URL:https://ordineavvocatifoggia.it/event/udienza-penale-del-17-10-2024-giudice-di-pace-di-manfredonia-avv-lufino/
CATEGORIES:Udienze
END:VEVENT
BEGIN:VEVENT
DTSTART;VALUE=DATE:20241017
DTEND;VALUE=DATE:20241018
DTSTAMP:20260425T212432
CREATED:20241013T073132Z
LAST-MODIFIED:20241013T073132Z
UID:42055-1729123200-1729209599@ordineavvocatifoggia.it
SUMMARY:Udienza penale del 17/10/2024 Giudice di Pace di Lucera Avv. Lufino
DESCRIPTION:Lo statino è allegato. \n\n        \n            Allegati\n        Rinvii Dott.ssa Lufino (192 kB)
URL:https://ordineavvocatifoggia.it/event/udienza-penale-del-17-10-2024-giudice-di-pace-di-lucera-avv-lufino/
CATEGORIES:Udienze
END:VEVENT
BEGIN:VEVENT
DTSTART;VALUE=DATE:20241017
DTEND;VALUE=DATE:20241018
DTSTAMP:20260425T212432
CREATED:20241014T092125Z
LAST-MODIFIED:20241014T092509Z
UID:42067-1729123200-1729209599@ordineavvocatifoggia.it
SUMMARY:Udienza del 17/10/2024 Giudice di Pace di Termoli Avv. Salvatore Chiara
DESCRIPTION:Il ruolo di udienza è disponibile in allegato. \n\n        \n            Allegati\n        Rinvii Dott.ssa Lufino (192 kB)
URL:https://ordineavvocatifoggia.it/event/udienza-del-17-10-2024-giudice-di-pace-di-termoli-avv-salvatore-chiara/
CATEGORIES:Udienze
END:VEVENT
BEGIN:VEVENT
DTSTART;VALUE=DATE:20241017
DTEND;VALUE=DATE:20241018
DTSTAMP:20260425T212432
CREATED:20241014T092626Z
LAST-MODIFIED:20241014T092626Z
UID:42074-1729123200-1729209599@ordineavvocatifoggia.it
SUMMARY:Udienza del 17/10/2024 Tribunale di Foggia dott. Mercuri
DESCRIPTION:Il provvedimento è allegato. \n\n        \n            Allegati\n        Rinvii Dott.ssa Lufino (192 kB)
URL:https://ordineavvocatifoggia.it/event/udienza-del-17-10-2024-tribunale-di-foggia-dott-mercuri/
CATEGORIES:Udienze
END:VEVENT
END:VCALENDAR