BEGIN:VCALENDAR
VERSION:2.0
PRODID:-//Ordine degli Avvocati di Foggia - ECPv4.9.10//NONSGML v1.0//EN
CALSCALE:GREGORIAN
METHOD:PUBLISH
X-WR-CALNAME:Ordine degli Avvocati di Foggia
X-ORIGINAL-URL:https://ordineavvocatifoggia.it
X-WR-CALDESC:Eventi per Ordine degli Avvocati di Foggia
BEGIN:VTIMEZONE
TZID:Europe/Rome
BEGIN:DAYLIGHT
TZOFFSETFROM:+0100
TZOFFSETTO:+0200
TZNAME:CEST
DTSTART:20240331T010000
END:DAYLIGHT
BEGIN:STANDARD
TZOFFSETFROM:+0200
TZOFFSETTO:+0100
TZNAME:CET
DTSTART:20241027T010000
END:STANDARD
END:VTIMEZONE
BEGIN:VEVENT
DTSTART;VALUE=DATE:20241015
DTEND;VALUE=DATE:20241016
DTSTAMP:20260425T200557
CREATED:20241004T094054Z
LAST-MODIFIED:20241004T094054Z
UID:41962-1728950400-1729036799@ordineavvocatifoggia.it
SUMMARY:Udienza penale del 15/10/2024 Giudice di Pace di Foggia dott.ssa Bonuomo
DESCRIPTION:Il provvedimento è allegato. \n\n        \n            Allegati\n        Ordine di trattazione ud. 15.10.2024 BONUOMO (141 kB)
URL:https://ordineavvocatifoggia.it/event/udienza-penale-del-15-10-2024-giudice-di-pace-di-foggia-dott-ssa-bonuomo/
CATEGORIES:Udienze
END:VEVENT
BEGIN:VEVENT
DTSTART;VALUE=DATE:20241015
DTEND;VALUE=DATE:20241016
DTSTAMP:20260425T200557
CREATED:20241013T072555Z
LAST-MODIFIED:20241013T072727Z
UID:42047-1728950400-1729036799@ordineavvocatifoggia.it
SUMMARY:Udienza dibattimentale del 15/10/2024 Tribunale per i Minorenni di Bari dott.ssa Calvanese
DESCRIPTION:Il provvedimento è allegato. \n\n        \n            Allegati\n        Ordine di trattazione ud. 15.10.2024 BONUOMO (141 kB)
URL:https://ordineavvocatifoggia.it/event/udienza-dibattimentale-del-15-10-2024-tribunale-per-i-minorenni-di-bari-dott-ssa-calvanese/
CATEGORIES:Udienze
END:VEVENT
BEGIN:VEVENT
DTSTART;VALUE=DATE:20241015
DTEND;VALUE=DATE:20241016
DTSTAMP:20260425T200557
CREATED:20241013T073013Z
LAST-MODIFIED:20241013T073013Z
UID:42051-1728950400-1729036799@ordineavvocatifoggia.it
SUMMARY:Udienza del 15/10/2024 Tribunale di Sorveglianza di Bari
DESCRIPTION:Il provvedimento e lo statino sono allegati. \n\n        \n            Allegati\n        Ordine di trattazione ud. 15.10.2024 BONUOMO (141 kB)
URL:https://ordineavvocatifoggia.it/event/udienza-del-15-10-2024-tribunale-di-sorveglianza-di-bari/
CATEGORIES:Udienze
END:VEVENT
BEGIN:VEVENT
DTSTART;VALUE=DATE:20241015
DTEND;VALUE=DATE:20241016
DTSTAMP:20260425T200557
CREATED:20241014T091848Z
LAST-MODIFIED:20241014T091848Z
UID:42064-1728950400-1729036799@ordineavvocatifoggia.it
SUMMARY:Udienza del 15/10/2024 Giudice di Pace di Foggia dott.ssa Starvaggi
DESCRIPTION:Il ruolo di udienza è disponibile in allegato. \n\n        \n            Allegati\n        Ordine di trattazione ud. 15.10.2024 BONUOMO (141 kB)
URL:https://ordineavvocatifoggia.it/event/udienza-del-15-10-2024-giudice-di-pace-di-foggia-dott-ssa-starvaggi/
CATEGORIES:Udienze
END:VEVENT
BEGIN:VEVENT
DTSTART;VALUE=DATE:20241015
DTEND;VALUE=DATE:20241016
DTSTAMP:20260425T200557
CREATED:20241017T105013Z
LAST-MODIFIED:20241017T105013Z
UID:42099-1728950400-1729036799@ordineavvocatifoggia.it
SUMMARY:Rinvio udienza del 15/10/2024 Tribunale di Sorveglianza di Bari
DESCRIPTION:Il documento è allegato. \n\n        \n            Allegati\n        Ordine di trattazione ud. 15.10.2024 BONUOMO (141 kB)
URL:https://ordineavvocatifoggia.it/event/rinvio-udienza-del-15-10-2024-tribunale-di-sorveglianza-di-bari/
CATEGORIES:Rinivii udienze
END:VEVENT
END:VCALENDAR