BEGIN:VCALENDAR
VERSION:2.0
PRODID:-//Ordine degli Avvocati di Foggia - ECPv4.9.10//NONSGML v1.0//EN
CALSCALE:GREGORIAN
METHOD:PUBLISH
X-WR-CALNAME:Ordine degli Avvocati di Foggia
X-ORIGINAL-URL:https://ordineavvocatifoggia.it
X-WR-CALDESC:Eventi per Ordine degli Avvocati di Foggia
BEGIN:VTIMEZONE
TZID:Europe/Rome
BEGIN:DAYLIGHT
TZOFFSETFROM:+0100
TZOFFSETTO:+0200
TZNAME:CEST
DTSTART:20240331T010000
END:DAYLIGHT
BEGIN:STANDARD
TZOFFSETFROM:+0200
TZOFFSETTO:+0100
TZNAME:CET
DTSTART:20241027T010000
END:STANDARD
END:VTIMEZONE
BEGIN:VEVENT
DTSTART;VALUE=DATE:20241001
DTEND;VALUE=DATE:20241002
DTSTAMP:20260425T195814
CREATED:20240923T085535Z
LAST-MODIFIED:20240923T085535Z
UID:41874-1727740800-1727827199@ordineavvocatifoggia.it
SUMMARY:Udienza penale del 01/10/2024 Giudice di Pace di Foggia dott.ssa Bonuomo
DESCRIPTION:Il provvedimento è allegato. \n\n        \n            Allegati\n        Ordine trattazione ud. 01.10.2024 BONUOMO (139 kB)
URL:https://ordineavvocatifoggia.it/event/udienza-penale-del-01-10-2024-giudice-di-pace-di-foggia-dott-ssa-bonuomo/
CATEGORIES:Udienze
END:VEVENT
BEGIN:VEVENT
DTSTART;VALUE=DATE:20241001
DTEND;VALUE=DATE:20241002
DTSTAMP:20260425T195814
CREATED:20240926T100715Z
LAST-MODIFIED:20240926T100715Z
UID:41907-1727740800-1727827199@ordineavvocatifoggia.it
SUMMARY:Rinvio udienza del 01/10/2024 Giudice di Pace di Rodi Garganico Avv. Brunetti
DESCRIPTION:L’udienza è rinviata d’ufficio al giorno 8/10/2024 come da provvedimento allegato. \n\n        \n            Allegati\n        Ordine trattazione ud. 01.10.2024 BONUOMO (139 kB)
URL:https://ordineavvocatifoggia.it/event/rinvio-udienza-del-01-10-2024-giudice-di-pace-di-rodi-garganico-avv-brunetti/
CATEGORIES:Rinivii udienze
END:VEVENT
BEGIN:VEVENT
DTSTART;VALUE=DATE:20241001
DTEND;VALUE=DATE:20241002
DTSTAMP:20260425T195814
CREATED:20240927T113150Z
LAST-MODIFIED:20240927T113150Z
UID:41913-1727740800-1727827199@ordineavvocatifoggia.it
SUMMARY:Udienza del 01/10/2024 Tribunale di Sorveglianza di Bari
DESCRIPTION:Il provvedimento è allegato. \n\n        \n            Allegati\n        Ordine trattazione ud. 01.10.2024 BONUOMO (139 kB)
URL:https://ordineavvocatifoggia.it/event/udienza-del-01-10-2024-tribunale-di-sorveglianza-di-bari/
CATEGORIES:Udienze
END:VEVENT
BEGIN:VEVENT
DTSTART;TZID=Europe/Rome:20241001T080000
DTEND;TZID=Europe/Rome:20241001T170000
DTSTAMP:20260425T195814
CREATED:20240926T100825Z
LAST-MODIFIED:20240926T100825Z
UID:41910-1727769600-1727802000@ordineavvocatifoggia.it
SUMMARY:Udienza del 01/10/2024 Giudice di Pace di Lucera dott. Di Lella
DESCRIPTION:Il ruolo di udienza è disponibile in allegato. \n\n        \n            Allegati\n        Ordine trattazione ud. 01.10.2024 BONUOMO (139 kB)
URL:https://ordineavvocatifoggia.it/event/udienza-del-01-10-2024-giudice-di-pace-di-lucera-dott-di-lella/
CATEGORIES:Udienze
END:VEVENT
END:VCALENDAR