BEGIN:VCALENDAR
VERSION:2.0
PRODID:-//Ordine degli Avvocati di Foggia - ECPv4.9.10//NONSGML v1.0//EN
CALSCALE:GREGORIAN
METHOD:PUBLISH
X-WR-CALNAME:Ordine degli Avvocati di Foggia
X-ORIGINAL-URL:https://ordineavvocatifoggia.it
X-WR-CALDESC:Eventi per Ordine degli Avvocati di Foggia
BEGIN:VTIMEZONE
TZID:Europe/Rome
BEGIN:DAYLIGHT
TZOFFSETFROM:+0100
TZOFFSETTO:+0200
TZNAME:CEST
DTSTART:20240331T010000
END:DAYLIGHT
BEGIN:STANDARD
TZOFFSETFROM:+0200
TZOFFSETTO:+0100
TZNAME:CET
DTSTART:20241027T010000
END:STANDARD
END:VTIMEZONE
BEGIN:VEVENT
DTSTART;VALUE=DATE:20240919
DTEND;VALUE=DATE:20240920
DTSTAMP:20260425T213058
CREATED:20240706T100455Z
LAST-MODIFIED:20240706T100455Z
UID:41562-1726704000-1726790399@ordineavvocatifoggia.it
SUMMARY:Rinvio udienza penale del 19/9/2024 Giudice di Pace di Lucera Avv. Lufino
DESCRIPTION:L’udienza è rinviata d’ufficio al giorno 31/10/2024 come da provvedimento allegato. \n\n        \n            Allegati\n        Rinvii Dott.ssa Lufino (192 kB)
URL:https://ordineavvocatifoggia.it/event/rinvio-udienza-penale-del-19-9-2024-giudice-di-pace-di-lucera-avv-lufino/
CATEGORIES:Rinivii udienze
END:VEVENT
BEGIN:VEVENT
DTSTART;VALUE=DATE:20240919
DTEND;VALUE=DATE:20240920
DTSTAMP:20260425T213058
CREATED:20240912T141402Z
LAST-MODIFIED:20240912T141402Z
UID:41800-1726704000-1726790399@ordineavvocatifoggia.it
SUMMARY:Udienza penale del 19/9/2024 Giudice di Pace di Manfredonia Avv. Lufino
DESCRIPTION:Lo statino è allegato. \n\n        \n            Allegati\n        Rinvii Dott.ssa Lufino (192 kB)
URL:https://ordineavvocatifoggia.it/event/udienza-penale-del-19-9-2024-giudice-di-pace-di-manfredonia-avv-lufino/
CATEGORIES:Udienze
END:VEVENT
BEGIN:VEVENT
DTSTART;VALUE=DATE:20240919
DTEND;VALUE=DATE:20240920
DTSTAMP:20260425T213058
CREATED:20240914T114258Z
LAST-MODIFIED:20240914T114258Z
UID:41813-1726704000-1726790399@ordineavvocatifoggia.it
SUMMARY:Udienza penale del 19/9/2024 Giudice di Pace di Manfredonia Avv. Lufino
DESCRIPTION:Lo statino è allegato. \n\n        \n            Allegati\n        Rinvii Dott.ssa Lufino (192 kB)
URL:https://ordineavvocatifoggia.it/event/udienza-penale-del-19-9-2024-giudice-di-pace-di-manfredonia-avv-lufino-2/
CATEGORIES:Udienze
END:VEVENT
BEGIN:VEVENT
DTSTART;VALUE=DATE:20240919
DTEND;VALUE=DATE:20240920
DTSTAMP:20260425T213058
CREATED:20240918T135313Z
LAST-MODIFIED:20240918T135313Z
UID:41850-1726704000-1726790399@ordineavvocatifoggia.it
SUMMARY:Udienza del 19/9/2024 Giudice di Pace di Termoli Avv. Salvatore Chiara
DESCRIPTION:Il ruolo è allegato. \n\n        \n            Allegati\n        Rinvii Dott.ssa Lufino (192 kB)
URL:https://ordineavvocatifoggia.it/event/udienza-del-19-9-2024-giudice-di-pace-di-termoli-avv-salvatore-chiara/
CATEGORIES:Udienze
END:VEVENT
END:VCALENDAR