BEGIN:VCALENDAR
VERSION:2.0
PRODID:-//Ordine degli Avvocati di Foggia - ECPv4.9.10//NONSGML v1.0//EN
CALSCALE:GREGORIAN
METHOD:PUBLISH
X-WR-CALNAME:Ordine degli Avvocati di Foggia
X-ORIGINAL-URL:https://ordineavvocatifoggia.it
X-WR-CALDESC:Eventi per Ordine degli Avvocati di Foggia
BEGIN:VTIMEZONE
TZID:Europe/Rome
BEGIN:DAYLIGHT
TZOFFSETFROM:+0100
TZOFFSETTO:+0200
TZNAME:CEST
DTSTART:20240331T010000
END:DAYLIGHT
BEGIN:STANDARD
TZOFFSETFROM:+0200
TZOFFSETTO:+0100
TZNAME:CET
DTSTART:20241027T010000
END:STANDARD
END:VTIMEZONE
BEGIN:VEVENT
DTSTART;VALUE=DATE:20240905
DTEND;VALUE=DATE:20240906
DTSTAMP:20260425T212659
CREATED:20240830T113151Z
LAST-MODIFIED:20240830T113151Z
UID:41744-1725494400-1725580799@ordineavvocatifoggia.it
SUMMARY:Udienza del 5/9/2024 Giudice di Pace di Termoli Avv. Salvatore Chiara
DESCRIPTION:Il ruolo è allegato. \n\n        \n            Allegati\n        2024.09.05 udienza Gdp di Termoli (108 kB)
URL:https://ordineavvocatifoggia.it/event/udienza-del-5-9-2024-giudice-di-pace-di-termoli-avv-salvatore-chiara/
CATEGORIES:Udienze
END:VEVENT
BEGIN:VEVENT
DTSTART;VALUE=DATE:20240905
DTEND;VALUE=DATE:20240906
DTSTAMP:20260425T212659
CREATED:20240904T140100Z
LAST-MODIFIED:20240904T140100Z
UID:41753-1725494400-1725580799@ordineavvocatifoggia.it
SUMMARY:Udienza del 5/9/2024 Tribunale di Sorveglianza di Bari
DESCRIPTION:Il provvedimento è allegato. \n\n        \n            Allegati\n        2024.09.05 udienza Gdp di Termoli (108 kB)
URL:https://ordineavvocatifoggia.it/event/udienza-del-5-9-2024-tribunale-di-sorveglianza-di-bari/
CATEGORIES:Udienze
END:VEVENT
END:VCALENDAR