BEGIN:VCALENDAR
VERSION:2.0
PRODID:-//Ordine degli Avvocati di Foggia - ECPv4.9.10//NONSGML v1.0//EN
CALSCALE:GREGORIAN
METHOD:PUBLISH
X-WR-CALNAME:Ordine degli Avvocati di Foggia
X-ORIGINAL-URL:https://ordineavvocatifoggia.it
X-WR-CALDESC:Eventi per Ordine degli Avvocati di Foggia
BEGIN:VTIMEZONE
TZID:Europe/Rome
BEGIN:DAYLIGHT
TZOFFSETFROM:+0100
TZOFFSETTO:+0200
TZNAME:CEST
DTSTART:20240331T010000
END:DAYLIGHT
BEGIN:STANDARD
TZOFFSETFROM:+0200
TZOFFSETTO:+0100
TZNAME:CET
DTSTART:20241027T010000
END:STANDARD
END:VTIMEZONE
BEGIN:VEVENT
DTSTART;VALUE=DATE:20240709
DTEND;VALUE=DATE:20240710
DTSTAMP:20260426T001103
CREATED:20240628T122840Z
LAST-MODIFIED:20240628T122840Z
UID:41475-1720483200-1720569599@ordineavvocatifoggia.it
SUMMARY:Udienza penale del 9/7/2024 Giudice di Pace di Foggia dott.ssa Lovaglio
DESCRIPTION:Lo statino è allegato. \n\n        \n            Allegati\n        provvedimento udienza 09.07.24 G. Lovaglio (299 kB)
URL:https://ordineavvocatifoggia.it/event/udienza-penale-del-9-7-2024-giudice-di-pace-di-foggia-dott-ssa-lovaglio/
CATEGORIES:Udienze
END:VEVENT
BEGIN:VEVENT
DTSTART;VALUE=DATE:20240709
DTEND;VALUE=DATE:20240710
DTSTAMP:20260426T001104
CREATED:20240704T104033Z
LAST-MODIFIED:20240704T104033Z
UID:41535-1720483200-1720569599@ordineavvocatifoggia.it
SUMMARY:Udienza penale del 9/7/2024 Giudice di Pace di Foggia dott.ssa Lovaglio
DESCRIPTION:Lo statino è allegato. \n\n        \n            Allegati\n        provvedimento udienza 09.07.24 G. Lovaglio (299 kB)
URL:https://ordineavvocatifoggia.it/event/udienza-penale-del-9-7-2024-giudice-di-pace-di-foggia-dott-ssa-lovaglio-2/
CATEGORIES:Udienze
END:VEVENT
BEGIN:VEVENT
DTSTART;VALUE=DATE:20240709
DTEND;VALUE=DATE:20240710
DTSTAMP:20260426T001104
CREATED:20240706T095403Z
LAST-MODIFIED:20240706T095403Z
UID:41538-1720483200-1720569599@ordineavvocatifoggia.it
SUMMARY:Udienza del 9/7/2024 Giudice di Pace di Lucera dott. Di Lella
DESCRIPTION:Il ruolo è allegato. \n\n        \n            Allegati\n        provvedimento udienza 09.07.24 G. Lovaglio (299 kB)
URL:https://ordineavvocatifoggia.it/event/udienza-del-9-7-2024-giudice-di-pace-di-lucera-dott-di-lella/
CATEGORIES:Udienze
END:VEVENT
BEGIN:VEVENT
DTSTART;VALUE=DATE:20240709
DTEND;VALUE=DATE:20240710
DTSTAMP:20260426T001104
CREATED:20240706T095508Z
LAST-MODIFIED:20240706T095508Z
UID:41541-1720483200-1720569599@ordineavvocatifoggia.it
SUMMARY:Udienza dibattimentale del 9/7/2024 Tribunale per i Minorenni di Bari dott.ssa Calvanese
DESCRIPTION:Il provvedimento è allegato. \n\n        \n            Allegati\n        provvedimento udienza 09.07.24 G. Lovaglio (299 kB)
URL:https://ordineavvocatifoggia.it/event/udienza-dibattimentale-del-9-7-2024-tribunale-per-i-minorenni-di-bari-dott-ssa-calvanese/
CATEGORIES:Udienze
END:VEVENT
BEGIN:VEVENT
DTSTART;VALUE=DATE:20240709
DTEND;VALUE=DATE:20240710
DTSTAMP:20260426T001104
CREATED:20240706T095554Z
LAST-MODIFIED:20240706T095554Z
UID:41544-1720483200-1720569599@ordineavvocatifoggia.it
SUMMARY:Udienza del 9/7/2024 Tribunale di Sorveglianza di Bari
DESCRIPTION:Il provvedimento è allegato. \n\n        \n            Allegati\n        provvedimento udienza 09.07.24 G. Lovaglio (299 kB)
URL:https://ordineavvocatifoggia.it/event/udienza-del-9-7-2024-tribunale-di-sorveglianza-di-bari/
CATEGORIES:Udienze
END:VEVENT
BEGIN:VEVENT
DTSTART;VALUE=DATE:20240709
DTEND;VALUE=DATE:20240710
DTSTAMP:20260426T001104
CREATED:20240708T085837Z
LAST-MODIFIED:20240708T085837Z
UID:41577-1720483200-1720569599@ordineavvocatifoggia.it
SUMMARY:Udienza penale del 9/7/2024 Giudice di Pace di Trinitapoli Avv. Rizzi
DESCRIPTION:Il provvedimento è allegato. \n\n        \n            Allegati\n        provvedimento udienza 09.07.24 G. Lovaglio (299 kB)
URL:https://ordineavvocatifoggia.it/event/udienza-penale-del-9-7-2024-giudice-di-pace-di-trinitapoli-avv-rizzi/
CATEGORIES:Udienze
END:VEVENT
END:VCALENDAR