BEGIN:VCALENDAR
VERSION:2.0
PRODID:-//Ordine degli Avvocati di Foggia - ECPv4.9.10//NONSGML v1.0//EN
CALSCALE:GREGORIAN
METHOD:PUBLISH
X-WR-CALNAME:Ordine degli Avvocati di Foggia
X-ORIGINAL-URL:https://ordineavvocatifoggia.it
X-WR-CALDESC:Eventi per Ordine degli Avvocati di Foggia
BEGIN:VTIMEZONE
TZID:Europe/Rome
BEGIN:DAYLIGHT
TZOFFSETFROM:+0100
TZOFFSETTO:+0200
TZNAME:CEST
DTSTART:20240331T010000
END:DAYLIGHT
BEGIN:STANDARD
TZOFFSETFROM:+0200
TZOFFSETTO:+0100
TZNAME:CET
DTSTART:20241027T010000
END:STANDARD
END:VTIMEZONE
BEGIN:VEVENT
DTSTART;VALUE=DATE:20240705
DTEND;VALUE=DATE:20240706
DTSTAMP:20260426T000935
CREATED:20240608T105748Z
LAST-MODIFIED:20240608T105748Z
UID:41312-1720137600-1720223999@ordineavvocatifoggia.it
SUMMARY:Rinvio udienza del 5/7/2024 Giudice di Pace di Lucera dott.ssa Ferrigni
DESCRIPTION:L’udienza è rinviata d’ufficio al giorno 4/10/2024 come da avviso allegato. \n\n        \n            Allegati\n        2024.07.05 Rinvio Udienza Ferrigni (201 kB)
URL:https://ordineavvocatifoggia.it/event/rinvio-udienza-del-5-7-2024-giudice-di-pace-di-lucera-dott-ssa-ferrigni/
CATEGORIES:Rinivii udienze
END:VEVENT
END:VCALENDAR