BEGIN:VCALENDAR
VERSION:2.0
PRODID:-//Ordine degli Avvocati di Foggia - ECPv4.9.10//NONSGML v1.0//EN
CALSCALE:GREGORIAN
METHOD:PUBLISH
X-WR-CALNAME:Ordine degli Avvocati di Foggia
X-ORIGINAL-URL:https://ordineavvocatifoggia.it
X-WR-CALDESC:Eventi per Ordine degli Avvocati di Foggia
BEGIN:VTIMEZONE
TZID:Europe/Rome
BEGIN:DAYLIGHT
TZOFFSETFROM:+0100
TZOFFSETTO:+0200
TZNAME:CEST
DTSTART:20240331T010000
END:DAYLIGHT
BEGIN:STANDARD
TZOFFSETFROM:+0200
TZOFFSETTO:+0100
TZNAME:CET
DTSTART:20241027T010000
END:STANDARD
END:VTIMEZONE
BEGIN:VEVENT
DTSTART;VALUE=DATE:20240626
DTEND;VALUE=DATE:20240627
DTSTAMP:20260426T033011
CREATED:20240522T070451Z
LAST-MODIFIED:20240522T070451Z
UID:41143-1719360000-1719446399@ordineavvocatifoggia.it
SUMMARY:Udienza del 26/6/2024 Corte di Appello di Bari Terza Sez. Civ. e Sez. Spec. Agraria
DESCRIPTION:Il provvedimento è allegato. \n\n        \n            Allegati\n        decreto pres. ord. + agraria 26-6-2024 (153 kB)
URL:https://ordineavvocatifoggia.it/event/udienza-del-26-6-2024-corte-di-appello-di-bari-terza-sez-civ-e-sez-spec-agraria/
CATEGORIES:Udienze
END:VEVENT
END:VCALENDAR