BEGIN:VCALENDAR
VERSION:2.0
PRODID:-//Ordine degli Avvocati di Foggia - ECPv4.9.10//NONSGML v1.0//EN
CALSCALE:GREGORIAN
METHOD:PUBLISH
X-WR-CALNAME:Ordine degli Avvocati di Foggia
X-ORIGINAL-URL:https://ordineavvocatifoggia.it
X-WR-CALDESC:Eventi per Ordine degli Avvocati di Foggia
BEGIN:VTIMEZONE
TZID:Europe/Rome
BEGIN:DAYLIGHT
TZOFFSETFROM:+0100
TZOFFSETTO:+0200
TZNAME:CEST
DTSTART:20240331T010000
END:DAYLIGHT
BEGIN:STANDARD
TZOFFSETFROM:+0200
TZOFFSETTO:+0100
TZNAME:CET
DTSTART:20241027T010000
END:STANDARD
END:VTIMEZONE
BEGIN:VEVENT
DTSTART;VALUE=DATE:20240625
DTEND;VALUE=DATE:20240626
DTSTAMP:20260426T033015
CREATED:20240614T133835Z
LAST-MODIFIED:20240614T133835Z
UID:41324-1719273600-1719359999@ordineavvocatifoggia.it
SUMMARY:Udienza penale del 25/6/2024 Giudice di Pace di Foggia dott.ssa Lovaglio
DESCRIPTION:Lo statino è allegato. \n\n        \n            Allegati\n        provvedimento udienza 25.06.24 G. Lovaglio (472 kB)
URL:https://ordineavvocatifoggia.it/event/udienza-penale-del-25-6-2024-giudice-di-pace-di-foggia-dott-ssa-lovaglio/
CATEGORIES:Udienze
END:VEVENT
BEGIN:VEVENT
DTSTART;VALUE=DATE:20240625
DTEND;VALUE=DATE:20240626
DTSTAMP:20260426T033015
CREATED:20240619T140916Z
LAST-MODIFIED:20240624T060747Z
UID:41368-1719273600-1719359999@ordineavvocatifoggia.it
SUMMARY:Udienza penale del 25/6/2024 Giudice di Pace di San Giovanni Rotondo dott.ssa Pedarra
DESCRIPTION:Il provvedimento è allegato. \n\n        \n            Allegati\n        provvedimento udienza 25.06.24 G. Lovaglio (472 kB)
URL:https://ordineavvocatifoggia.it/event/udienza-penale-del-25-6-2024-giudice-di-pace-di-san-giovanni-rotondo-dott-ssa-pedarra/
CATEGORIES:Udienze
END:VEVENT
BEGIN:VEVENT
DTSTART;VALUE=DATE:20240625
DTEND;VALUE=DATE:20240626
DTSTAMP:20260426T033015
CREATED:20240624T081154Z
LAST-MODIFIED:20240624T081154Z
UID:41428-1719273600-1719359999@ordineavvocatifoggia.it
SUMMARY:Udienza penale del 25/6/2024 Giudice di Pace di Rodi Garganico Avv. Brunetti
DESCRIPTION:Il provvedimento è allegato. \n\n        \n            Allegati\n        provvedimento udienza 25.06.24 G. Lovaglio (472 kB)
URL:https://ordineavvocatifoggia.it/event/udienza-penale-del-25-6-2024-giudice-di-pace-di-rodi-garganico-avv-brunetti/
CATEGORIES:Udienze
END:VEVENT
BEGIN:VEVENT
DTSTART;VALUE=DATE:20240625
DTEND;VALUE=DATE:20240626
DTSTAMP:20260426T033015
CREATED:20240624T081243Z
LAST-MODIFIED:20240624T081243Z
UID:41431-1719273600-1719359999@ordineavvocatifoggia.it
SUMMARY:Udienza del 25/6/2024 Giudice di Pace di Lucera dott. Di Lella
DESCRIPTION:Il ruolo è allegato. \n\n        \n            Allegati\n        provvedimento udienza 25.06.24 G. Lovaglio (472 kB)
URL:https://ordineavvocatifoggia.it/event/udienza-del-25-6-2024-giudice-di-pace-di-lucera-dott-di-lella/
CATEGORIES:Udienze
END:VEVENT
BEGIN:VEVENT
DTSTART;VALUE=DATE:20240625
DTEND;VALUE=DATE:20240626
DTSTAMP:20260426T033015
CREATED:20240624T081334Z
LAST-MODIFIED:20240624T081334Z
UID:41434-1719273600-1719359999@ordineavvocatifoggia.it
SUMMARY:Udienza dibattimentale del 25/6/2024 Tribunale per i Minorenni di Bari dott.ssa Calvanese
DESCRIPTION:Il provvedimento è allegato. \n\n        \n            Allegati\n        provvedimento udienza 25.06.24 G. Lovaglio (472 kB)
URL:https://ordineavvocatifoggia.it/event/udienza-dibattimentale-del-25-6-2024-tribunale-per-i-minorenni-di-bari-dott-ssa-calvanese/
CATEGORIES:Udienze
END:VEVENT
BEGIN:VEVENT
DTSTART;VALUE=DATE:20240625
DTEND;VALUE=DATE:20240626
DTSTAMP:20260426T033015
CREATED:20240624T081425Z
LAST-MODIFIED:20240624T081425Z
UID:41437-1719273600-1719359999@ordineavvocatifoggia.it
SUMMARY:Udienza del 25/6/2024 Tribunale di Sorveglianza di Bari
DESCRIPTION:Il provvedimento è allegato. \n\n        \n            Allegati\n        provvedimento udienza 25.06.24 G. Lovaglio (472 kB)
URL:https://ordineavvocatifoggia.it/event/udienza-del-25-6-2024-tribunale-di-sorveglianza-di-bari/
CATEGORIES:Udienze
END:VEVENT
BEGIN:VEVENT
DTSTART;VALUE=DATE:20240625
DTEND;VALUE=DATE:20240626
DTSTAMP:20260426T033015
CREATED:20240624T121445Z
LAST-MODIFIED:20240624T121445Z
UID:41455-1719273600-1719359999@ordineavvocatifoggia.it
SUMMARY:Udienza penale del 25/6/2024 Giudice di Pace di Trinitapoli Avv. Rizzi
DESCRIPTION:Il provvedimento è allegato. \n\n        \n            Allegati\n        provvedimento udienza 25.06.24 G. Lovaglio (472 kB)
URL:https://ordineavvocatifoggia.it/event/udienza-penale-del-25-6-2024-giudice-di-pace-di-trinitapoli-avv-rizzi/
CATEGORIES:Udienze
END:VEVENT
END:VCALENDAR