BEGIN:VCALENDAR
VERSION:2.0
PRODID:-//Ordine degli Avvocati di Foggia - ECPv4.9.10//NONSGML v1.0//EN
CALSCALE:GREGORIAN
METHOD:PUBLISH
X-WR-CALNAME:Ordine degli Avvocati di Foggia
X-ORIGINAL-URL:https://ordineavvocatifoggia.it
X-WR-CALDESC:Eventi per Ordine degli Avvocati di Foggia
BEGIN:VTIMEZONE
TZID:Europe/Rome
BEGIN:DAYLIGHT
TZOFFSETFROM:+0100
TZOFFSETTO:+0200
TZNAME:CEST
DTSTART:20240331T010000
END:DAYLIGHT
BEGIN:STANDARD
TZOFFSETFROM:+0200
TZOFFSETTO:+0100
TZNAME:CET
DTSTART:20241027T010000
END:STANDARD
END:VTIMEZONE
BEGIN:VEVENT
DTSTART;VALUE=DATE:20240620
DTEND;VALUE=DATE:20240621
DTSTAMP:20260426T033026
CREATED:20240614T133657Z
LAST-MODIFIED:20240614T133912Z
UID:41321-1718841600-1718927999@ordineavvocatifoggia.it
SUMMARY:Udienza penale del 20/6/2024 Giudice di Pace di Manfredonia dott. Di Lella
DESCRIPTION:Lo statino è allegato. \n\n        \n            Allegati\n        ud penale 20-6-24 (633 kB)
URL:https://ordineavvocatifoggia.it/event/udienza-penale-del-20-6-2024-giudice-di-pace-di-manfredonia-dott-di-lella/
CATEGORIES:Udienze
END:VEVENT
BEGIN:VEVENT
DTSTART;VALUE=DATE:20240620
DTEND;VALUE=DATE:20240621
DTSTAMP:20260426T033026
CREATED:20240615T140156Z
LAST-MODIFIED:20240615T140156Z
UID:41344-1718841600-1718927999@ordineavvocatifoggia.it
SUMMARY:Udienza del 20/6/2024 Giudice di Pace di Lucera Avv. Lufino
DESCRIPTION:Il ruolo è allegato. \n\n        \n            Allegati\n        ud penale 20-6-24 (633 kB)
URL:https://ordineavvocatifoggia.it/event/udienza-del-20-6-2024-giudice-di-pace-di-lucera-avv-lufino/
CATEGORIES:Udienze
END:VEVENT
BEGIN:VEVENT
DTSTART;VALUE=DATE:20240620
DTEND;VALUE=DATE:20240621
DTSTAMP:20260426T033026
CREATED:20240615T140256Z
LAST-MODIFIED:20240615T140256Z
UID:41347-1718841600-1718927999@ordineavvocatifoggia.it
SUMMARY:Udienza del 20/6/2024 Tribunale di Sorveglianza di Bari
DESCRIPTION:Il provvedimento è allegato. \n\n        \n            Allegati\n        ud penale 20-6-24 (633 kB)
URL:https://ordineavvocatifoggia.it/event/udienza-del-20-6-2024-tribunale-di-sorveglianza-di-bari/
CATEGORIES:Udienze
END:VEVENT
BEGIN:VEVENT
DTSTART;VALUE=DATE:20240620
DTEND;VALUE=DATE:20240621
DTSTAMP:20260426T033026
CREATED:20240618T080540Z
LAST-MODIFIED:20240618T080540Z
UID:41364-1718841600-1718927999@ordineavvocatifoggia.it
SUMMARY:Udienza del 20/6/2024 Giudice di Pace di Termoli Avv. Salvatore Chiara
DESCRIPTION:Il ruolo è allegato. \n\n        \n            Allegati\n        ud penale 20-6-24 (633 kB)
URL:https://ordineavvocatifoggia.it/event/udienza-del-20-6-2024-giudice-di-pace-di-termoli-avv-salvatore-chiara/
CATEGORIES:Udienze
END:VEVENT
END:VCALENDAR