BEGIN:VCALENDAR
VERSION:2.0
PRODID:-//Ordine degli Avvocati di Foggia - ECPv4.9.10//NONSGML v1.0//EN
CALSCALE:GREGORIAN
METHOD:PUBLISH
X-WR-CALNAME:Ordine degli Avvocati di Foggia
X-ORIGINAL-URL:https://ordineavvocatifoggia.it
X-WR-CALDESC:Eventi per Ordine degli Avvocati di Foggia
BEGIN:VTIMEZONE
TZID:Europe/Rome
BEGIN:DAYLIGHT
TZOFFSETFROM:+0100
TZOFFSETTO:+0200
TZNAME:CEST
DTSTART:20240331T010000
END:DAYLIGHT
BEGIN:STANDARD
TZOFFSETFROM:+0200
TZOFFSETTO:+0100
TZNAME:CET
DTSTART:20241027T010000
END:STANDARD
END:VTIMEZONE
BEGIN:VEVENT
DTSTART;VALUE=DATE:20240613
DTEND;VALUE=DATE:20240614
DTSTAMP:20260426T033104
CREATED:20240531T065607Z
LAST-MODIFIED:20240531T065607Z
UID:41209-1718236800-1718323199@ordineavvocatifoggia.it
SUMMARY:Udienza penale del 13/6/2024 Giudice di Pace di Foggia dott.ssa Pedarra
DESCRIPTION:Lo statino è allegato. \n\n        \n            Allegati\n        provvedimento udienza 13.06.24 G. Pedarra (211 kB)
URL:https://ordineavvocatifoggia.it/event/udienza-penale-del-13-6-2024-giudice-di-pace-di-foggia-dott-ssa-pedarra/
CATEGORIES:Udienze
END:VEVENT
BEGIN:VEVENT
DTSTART;VALUE=DATE:20240613
DTEND;VALUE=DATE:20240614
DTSTAMP:20260426T033104
CREATED:20240608T105456Z
LAST-MODIFIED:20240608T105456Z
UID:41303-1718236800-1718323199@ordineavvocatifoggia.it
SUMMARY:Udienza del 13/6/2024 Giudice di Pace di Lucera Avv. Lufino
DESCRIPTION:Il ruolo è allegato. \n\n        \n            Allegati\n        provvedimento udienza 13.06.24 G. Pedarra (211 kB)
URL:https://ordineavvocatifoggia.it/event/udienza-del-13-6-2024-giudice-di-pace-di-lucera-avv-lufino/
CATEGORIES:Udienze
END:VEVENT
BEGIN:VEVENT
DTSTART;VALUE=DATE:20240613
DTEND;VALUE=DATE:20240614
DTSTAMP:20260426T033104
CREATED:20240608T105545Z
LAST-MODIFIED:20240608T105545Z
UID:41306-1718236800-1718323199@ordineavvocatifoggia.it
SUMMARY:Udienza dibattimentale del 13/6/2024 Tribunale per i Minorenni di Bari dott.ssa Alessio
DESCRIPTION:Il provvedimento è allegato. \n\n        \n            Allegati\n        provvedimento udienza 13.06.24 G. Pedarra (211 kB)
URL:https://ordineavvocatifoggia.it/event/udienza-dibattimentale-del-13-6-2024-tribunale-per-i-minorenni-di-bari-dott-ssa-alessio/
CATEGORIES:Udienze
END:VEVENT
BEGIN:VEVENT
DTSTART;VALUE=DATE:20240613
DTEND;VALUE=DATE:20240614
DTSTAMP:20260426T033104
CREATED:20240611T074337Z
LAST-MODIFIED:20240611T074337Z
UID:41315-1718236800-1718323199@ordineavvocatifoggia.it
SUMMARY:Udienza del 13/6/2024 Giudice di Pace di Termoli Avv. Salvatore Chiara
DESCRIPTION:Il provvedimento è allegato. \n\n        \n            Allegati\n        provvedimento udienza 13.06.24 G. Pedarra (211 kB)
URL:https://ordineavvocatifoggia.it/event/udienza-del-13-6-2024-giudice-di-pace-di-termoli-avv-salvatore-chiara/
CATEGORIES:Udienze
END:VEVENT
END:VCALENDAR