BEGIN:VCALENDAR
VERSION:2.0
PRODID:-//Ordine degli Avvocati di Foggia - ECPv4.9.10//NONSGML v1.0//EN
CALSCALE:GREGORIAN
METHOD:PUBLISH
X-WR-CALNAME:Ordine degli Avvocati di Foggia
X-ORIGINAL-URL:https://ordineavvocatifoggia.it
X-WR-CALDESC:Eventi per Ordine degli Avvocati di Foggia
BEGIN:VTIMEZONE
TZID:Europe/Rome
BEGIN:DAYLIGHT
TZOFFSETFROM:+0100
TZOFFSETTO:+0200
TZNAME:CEST
DTSTART:20240331T010000
END:DAYLIGHT
BEGIN:STANDARD
TZOFFSETFROM:+0200
TZOFFSETTO:+0100
TZNAME:CET
DTSTART:20241027T010000
END:STANDARD
END:VTIMEZONE
BEGIN:VEVENT
DTSTART;VALUE=DATE:20240607
DTEND;VALUE=DATE:20240608
DTSTAMP:20260426T033001
CREATED:20240520T123803Z
LAST-MODIFIED:20240520T123803Z
UID:41135-1717718400-1717804799@ordineavvocatifoggia.it
SUMMARY:Udienza del 7/6/2024 e rinvii Giudice di Pace di Manfredonia dott. Capraro
DESCRIPTION:Il provvedimento è allegato. \n\n        \n            Allegati\n        2024.06.07 Udienza GdP di Manfredonia (213 kB)
URL:https://ordineavvocatifoggia.it/event/udienza-del-7-6-2024-e-rinvii-giudice-di-pace-di-manfredonia-dott-capraro/
CATEGORIES:Rinivii udienze,Udienze
END:VEVENT
BEGIN:VEVENT
DTSTART;VALUE=DATE:20240607
DTEND;VALUE=DATE:20240608
DTSTAMP:20260426T033001
CREATED:20240603T135122Z
LAST-MODIFIED:20240603T135122Z
UID:41270-1717718400-1717804799@ordineavvocatifoggia.it
SUMMARY:Udienza del 7/6/2024 Giudice di Pace di Lucera dott.ssa Ferrigni
DESCRIPTION:Il ruolo è allegato. \n\n        \n            Allegati\n        2024.06.07 Udienza GdP di Manfredonia (213 kB)
URL:https://ordineavvocatifoggia.it/event/udienza-del-7-6-2024-giudice-di-pace-di-lucera-dott-ssa-ferrigni/
CATEGORIES:Udienze
END:VEVENT
END:VCALENDAR