BEGIN:VCALENDAR
VERSION:2.0
PRODID:-//Ordine degli Avvocati di Foggia - ECPv4.9.10//NONSGML v1.0//EN
CALSCALE:GREGORIAN
METHOD:PUBLISH
X-WR-CALNAME:Ordine degli Avvocati di Foggia
X-ORIGINAL-URL:https://ordineavvocatifoggia.it
X-WR-CALDESC:Eventi per Ordine degli Avvocati di Foggia
BEGIN:VTIMEZONE
TZID:Europe/Rome
BEGIN:DAYLIGHT
TZOFFSETFROM:+0100
TZOFFSETTO:+0200
TZNAME:CEST
DTSTART:20240331T010000
END:DAYLIGHT
BEGIN:STANDARD
TZOFFSETFROM:+0200
TZOFFSETTO:+0100
TZNAME:CET
DTSTART:20241027T010000
END:STANDARD
END:VTIMEZONE
BEGIN:VEVENT
DTSTART;VALUE=DATE:20240530
DTEND;VALUE=DATE:20240531
DTSTAMP:20260426T032957
CREATED:20240524T115106Z
LAST-MODIFIED:20240524T115106Z
UID:41165-1717027200-1717113599@ordineavvocatifoggia.it
SUMMARY:Udienza del 30/5/2024 Giudice di Pace di Lucera Avv. Lufino
DESCRIPTION:Il ruolo è allegato. \n\n        \n            Allegati\n        2024.05.30 Udienza Lufino (968 kB)
URL:https://ordineavvocatifoggia.it/event/udienza-del-30-5-2024-giudice-di-pace-di-lucera-avv-lufino/
CATEGORIES:Udienze
END:VEVENT
BEGIN:VEVENT
DTSTART;VALUE=DATE:20240530
DTEND;VALUE=DATE:20240531
DTSTAMP:20260426T032957
CREATED:20240524T115203Z
LAST-MODIFIED:20240524T115203Z
UID:41168-1717027200-1717113599@ordineavvocatifoggia.it
SUMMARY:Udienza dibattimentale del 30/5/2024 Tribunale per i Minorenni di Bari dott.ssa Alessio
DESCRIPTION:Il provvedimento è allegato. \n\n        \n            Allegati\n        2024.05.30 Udienza Lufino (968 kB)
URL:https://ordineavvocatifoggia.it/event/udienza-dibattimentale-del-30-5-2024-tribunale-per-i-minorenni-di-bari-dott-ssa-alessio/
CATEGORIES:Udienze
END:VEVENT
BEGIN:VEVENT
DTSTART;VALUE=DATE:20240530
DTEND;VALUE=DATE:20240531
DTSTAMP:20260426T032957
CREATED:20240524T115426Z
LAST-MODIFIED:20240524T115426Z
UID:41171-1717027200-1717113599@ordineavvocatifoggia.it
SUMMARY:Udienza del 30/5/2024 Giudice di Pace di Termoli Avv. Chiara Salvatore
DESCRIPTION:Il ruolo è allegato. \n\n        \n            Allegati\n        2024.05.30 Udienza Lufino (968 kB)
URL:https://ordineavvocatifoggia.it/event/udienza-del-30-5-2024-giudice-di-pace-di-termoli-avv-chiara-salvatore/
CATEGORIES:Udienze
END:VEVENT
BEGIN:VEVENT
DTSTART;VALUE=DATE:20240530
DTEND;VALUE=DATE:20240531
DTSTAMP:20260426T032957
CREATED:20240529T070443Z
LAST-MODIFIED:20240529T070443Z
UID:41199-1717027200-1717113599@ordineavvocatifoggia.it
SUMMARY:Rinvio udienza del 30/5/2024 Giudice di Pace di Termoli Avv. Salvatore Chiara
DESCRIPTION:L’udienza è rinviata d’ufficio al giorno come da provvedimento allegato. \n\n        \n            Allegati\n        2024.05.30 Udienza Lufino (968 kB)
URL:https://ordineavvocatifoggia.it/event/rinvio-udienza-del-30-5-2024-giudice-di-pace-di-termoli-avv-salvatore-chiara/
CATEGORIES:Rinivii udienze
END:VEVENT
END:VCALENDAR