BEGIN:VCALENDAR
VERSION:2.0
PRODID:-//Ordine degli Avvocati di Foggia - ECPv4.9.10//NONSGML v1.0//EN
CALSCALE:GREGORIAN
METHOD:PUBLISH
X-WR-CALNAME:Ordine degli Avvocati di Foggia
X-ORIGINAL-URL:https://ordineavvocatifoggia.it
X-WR-CALDESC:Eventi per Ordine degli Avvocati di Foggia
BEGIN:VTIMEZONE
TZID:Europe/Rome
BEGIN:DAYLIGHT
TZOFFSETFROM:+0100
TZOFFSETTO:+0200
TZNAME:CEST
DTSTART:20240331T010000
END:DAYLIGHT
BEGIN:STANDARD
TZOFFSETFROM:+0200
TZOFFSETTO:+0100
TZNAME:CET
DTSTART:20241027T010000
END:STANDARD
END:VTIMEZONE
BEGIN:VEVENT
DTSTART;VALUE=DATE:20240521
DTEND;VALUE=DATE:20240522
DTSTAMP:20260426T033024
CREATED:20240514T105849Z
LAST-MODIFIED:20240514T105849Z
UID:41072-1716249600-1716335999@ordineavvocatifoggia.it
SUMMARY:Udienza penale del 21/5/2024 Giudice di Pace di Foggia dott.ssa Bonuomo
DESCRIPTION:Il provvedimento è allegato. \n\n        \n            Allegati\n        provvedimento udienza 21.05.24 G. Bonuomo (143 kB)
URL:https://ordineavvocatifoggia.it/event/udienza-penale-del-21-5-2024-giudice-di-pace-di-foggia-dott-ssa-bonuomo/
CATEGORIES:Udienze
END:VEVENT
BEGIN:VEVENT
DTSTART;VALUE=DATE:20240521
DTEND;VALUE=DATE:20240522
DTSTAMP:20260426T033024
CREATED:20240520T122553Z
LAST-MODIFIED:20240520T122553Z
UID:41111-1716249600-1716335999@ordineavvocatifoggia.it
SUMMARY:Udienza del 21/5/2024 Giudice di Pace di Lucera dott. Di Lella
DESCRIPTION:Il ruolo è allegato. \n\n        \n            Allegati\n        provvedimento udienza 21.05.24 G. Bonuomo (143 kB)
URL:https://ordineavvocatifoggia.it/event/udienza-del-21-5-2024-giudice-di-pace-di-lucera-dott-di-lella/
CATEGORIES:Udienze
END:VEVENT
BEGIN:VEVENT
DTSTART;VALUE=DATE:20240521
DTEND;VALUE=DATE:20240522
DTSTAMP:20260426T033024
CREATED:20240520T122654Z
LAST-MODIFIED:20240520T122654Z
UID:41114-1716249600-1716335999@ordineavvocatifoggia.it
SUMMARY:Udienza dibattimentale del 21/5/2024 Tribunale per i Minorenni di Bari dott.ssa Calvanese
DESCRIPTION:Il provvedimento è allegato. \n\n        \n            Allegati\n        provvedimento udienza 21.05.24 G. Bonuomo (143 kB)
URL:https://ordineavvocatifoggia.it/event/udienza-dibattimentale-del-21-5-2024-tribunale-per-i-minorenni-di-bari-dott-ssa-calvanese/
CATEGORIES:Udienze
END:VEVENT
BEGIN:VEVENT
DTSTART;VALUE=DATE:20240521
DTEND;VALUE=DATE:20240522
DTSTAMP:20260426T033024
CREATED:20240520T122739Z
LAST-MODIFIED:20240520T122739Z
UID:41117-1716249600-1716335999@ordineavvocatifoggia.it
SUMMARY:Udienza del 21/5/2024 Tribunale di Sorveglianza di Bari
DESCRIPTION:Il provvedimento è allegato. \n\n        \n            Allegati\n        provvedimento udienza 21.05.24 G. Bonuomo (143 kB)
URL:https://ordineavvocatifoggia.it/event/udienza-del-21-5-2024-tribunale-di-sorveglianza-di-bari/
CATEGORIES:Udienze
END:VEVENT
END:VCALENDAR