BEGIN:VCALENDAR
VERSION:2.0
PRODID:-//Ordine degli Avvocati di Foggia - ECPv4.9.10//NONSGML v1.0//EN
CALSCALE:GREGORIAN
METHOD:PUBLISH
X-WR-CALNAME:Ordine degli Avvocati di Foggia
X-ORIGINAL-URL:https://ordineavvocatifoggia.it
X-WR-CALDESC:Eventi per Ordine degli Avvocati di Foggia
BEGIN:VTIMEZONE
TZID:Europe/Rome
BEGIN:DAYLIGHT
TZOFFSETFROM:+0100
TZOFFSETTO:+0200
TZNAME:CEST
DTSTART:20210328T010000
END:DAYLIGHT
BEGIN:STANDARD
TZOFFSETFROM:+0200
TZOFFSETTO:+0100
TZNAME:CET
DTSTART:20211031T010000
END:STANDARD
END:VTIMEZONE
BEGIN:VEVENT
DTSTART;VALUE=DATE:20210412
DTEND;VALUE=DATE:20210413
DTSTAMP:20260425T033807
CREATED:20210408T140052Z
LAST-MODIFIED:20210408T140052Z
UID:27608-1618185600-1618271999@ordineavvocatifoggia.it
SUMMARY:Udienza preliminare del 12/4/2021 Tribunale per i Minorenni di Bari GUP dott. Buonvino
DESCRIPTION:Il provvedimento è allegato. \n\n		Allegati2021-04-12 udienza prel trib min bari gup buonvino (84.6 KB) 
URL:https://ordineavvocatifoggia.it/event/udienza-preliminare-del-12-4-2021-tribunale-per-i-minorenni-di-bari-gup-dott-buonvino/
CATEGORIES:Udienze
END:VEVENT
END:VCALENDAR