BEGIN:VCALENDAR
VERSION:2.0
PRODID:-//Ordine degli Avvocati di Foggia - ECPv4.9.10//NONSGML v1.0//EN
CALSCALE:GREGORIAN
METHOD:PUBLISH
X-WR-CALNAME:Ordine degli Avvocati di Foggia
X-ORIGINAL-URL:https://ordineavvocatifoggia.it
X-WR-CALDESC:Eventi per Ordine degli Avvocati di Foggia
BEGIN:VTIMEZONE
TZID:Europe/Rome
BEGIN:DAYLIGHT
TZOFFSETFROM:+0100
TZOFFSETTO:+0200
TZNAME:CEST
DTSTART:20240331T010000
END:DAYLIGHT
BEGIN:STANDARD
TZOFFSETFROM:+0200
TZOFFSETTO:+0100
TZNAME:CET
DTSTART:20241027T010000
END:STANDARD
END:VTIMEZONE
BEGIN:VEVENT
DTSTART;VALUE=DATE:20240411
DTEND;VALUE=DATE:20240412
DTSTAMP:20260422T203711
CREATED:20240404T121950Z
LAST-MODIFIED:20240404T121950Z
UID:40847-1712793600-1712879999@ordineavvocatifoggia.it
SUMMARY:Udienza penale dell'11/4/2024 Giudice di Pace di Foggia dott.ssa Pedarra
DESCRIPTION:Lo statino è allegato. \n\n        \n            Allegati\n        provvedimento udienza 11.04.24 G. Pedarra (340 kB)
URL:https://ordineavvocatifoggia.it/event/udienza-penale-dell-11-4-2024-giudice-di-pace-di-foggia-dott-ssa-pedarra/
CATEGORIES:Udienze
END:VEVENT
END:VCALENDAR