BEGIN:VCALENDAR
VERSION:2.0
PRODID:-//Ordine degli Avvocati di Foggia - ECPv4.9.10//NONSGML v1.0//EN
CALSCALE:GREGORIAN
METHOD:PUBLISH
X-WR-CALNAME:Ordine degli Avvocati di Foggia
X-ORIGINAL-URL:https://ordineavvocatifoggia.it
X-WR-CALDESC:Eventi per Ordine degli Avvocati di Foggia
BEGIN:VTIMEZONE
TZID:Europe/Rome
BEGIN:DAYLIGHT
TZOFFSETFROM:+0100
TZOFFSETTO:+0200
TZNAME:CEST
DTSTART:20250330T010000
END:DAYLIGHT
BEGIN:STANDARD
TZOFFSETFROM:+0200
TZOFFSETTO:+0100
TZNAME:CET
DTSTART:20251026T010000
END:STANDARD
END:VTIMEZONE
BEGIN:VEVENT
DTSTART;VALUE=DATE:20250505
DTEND;VALUE=DATE:20250506
DTSTAMP:20260425T102315
CREATED:20250430T083837Z
LAST-MODIFIED:20250430T083837Z
UID:43476-1746403200-1746489599@ordineavvocatifoggia.it
SUMMARY:Udienza penale del 5/05/2025 Giudice di Pace di Lucera Avv. Lufino
DESCRIPTION:Il provvedimento è allegato. \n\n        \n            Allegati\n        2025.05.05 Udienza penale Lufino (250 kB)
URL:https://ordineavvocatifoggia.it/event/udienza-penale-del-5-05-2025-giudice-di-pace-di-lucera-avv-lufino/
CATEGORIES:Udienze
END:VEVENT
END:VCALENDAR