BEGIN:VCALENDAR
VERSION:2.0
PRODID:-//Ordine degli Avvocati di Foggia - ECPv4.9.10//NONSGML v1.0//EN
CALSCALE:GREGORIAN
METHOD:PUBLISH
X-WR-CALNAME:Ordine degli Avvocati di Foggia
X-ORIGINAL-URL:https://ordineavvocatifoggia.it
X-WR-CALDESC:Eventi per Ordine degli Avvocati di Foggia
BEGIN:VTIMEZONE
TZID:Europe/Rome
BEGIN:DAYLIGHT
TZOFFSETFROM:+0100
TZOFFSETTO:+0200
TZNAME:CEST
DTSTART:20240331T010000
END:DAYLIGHT
BEGIN:STANDARD
TZOFFSETFROM:+0200
TZOFFSETTO:+0100
TZNAME:CET
DTSTART:20241027T010000
END:STANDARD
END:VTIMEZONE
BEGIN:VEVENT
DTSTART;VALUE=DATE:20240924
DTEND;VALUE=DATE:20240925
DTSTAMP:20260420T233217
CREATED:20240923T081054Z
LAST-MODIFIED:20240923T081054Z
UID:41869-1727136000-1727222399@ordineavvocatifoggia.it
SUMMARY:Udienza penale del 24/09/2024 Giudice di Pace di Trinitapoli Avv. Rizzi
DESCRIPTION:Il provvedimento è allegato. \n\n        \n            Allegati\n        doc10174620240923092443 (310 kB)
URL:https://ordineavvocatifoggia.it/event/udienza-penale-del-24-09-2024-giudice-di-pace-di-trinitapoli-avv-rizzi/
CATEGORIES:Udienze
END:VEVENT
END:VCALENDAR